BEGIN:VCALENDAR
VERSION:2.0
PRODID:-//European School for Advanced Veterinary Studies - ECPv6.15.18//NONSGML v1.0//EN
CALSCALE:GREGORIAN
METHOD:PUBLISH
X-ORIGINAL-URL:https://esavs.org
X-WR-CALDESC:Events for European School for Advanced Veterinary Studies
REFRESH-INTERVAL;VALUE=DURATION:PT1H
X-Robots-Tag:noindex
X-PUBLISHED-TTL:PT1H
BEGIN:VTIMEZONE
TZID:Europe/Brussels
BEGIN:DAYLIGHT
TZOFFSETFROM:+0100
TZOFFSETTO:+0200
TZNAME:CEST
DTSTART:20240331T010000
END:DAYLIGHT
BEGIN:STANDARD
TZOFFSETFROM:+0200
TZOFFSETTO:+0100
TZNAME:CET
DTSTART:20241027T010000
END:STANDARD
BEGIN:DAYLIGHT
TZOFFSETFROM:+0100
TZOFFSETTO:+0200
TZNAME:CEST
DTSTART:20250330T010000
END:DAYLIGHT
BEGIN:STANDARD
TZOFFSETFROM:+0200
TZOFFSETTO:+0100
TZNAME:CET
DTSTART:20251026T010000
END:STANDARD
BEGIN:DAYLIGHT
TZOFFSETFROM:+0100
TZOFFSETTO:+0200
TZNAME:CEST
DTSTART:20260329T010000
END:DAYLIGHT
BEGIN:STANDARD
TZOFFSETFROM:+0200
TZOFFSETTO:+0100
TZNAME:CET
DTSTART:20261025T010000
END:STANDARD
BEGIN:DAYLIGHT
TZOFFSETFROM:+0100
TZOFFSETTO:+0200
TZNAME:CEST
DTSTART:20270328T010000
END:DAYLIGHT
BEGIN:STANDARD
TZOFFSETFROM:+0200
TZOFFSETTO:+0100
TZNAME:CET
DTSTART:20271031T010000
END:STANDARD
END:VTIMEZONE
BEGIN:VEVENT
DTSTART;VALUE=DATE:20260302
DTEND;VALUE=DATE:20260419
DTSTAMP:20260420T122624
CREATED:20250416T142359Z
LAST-MODIFIED:20260413T113603Z
UID:990000287-1772409600-1776556799@esavs.org
SUMMARY:Soft Tissue Surgery I
DESCRIPTION:
URL:https://esavs.org/event/soft-tissue-surgery-1-april-2026/
LOCATION:Bucharest / Romania\, JW Marriott Bucharest Grand Hotel\, Calea 13 Septembrie 90\, Bucharest\, Romania
CATEGORIES:CASVM-MASVM,Soft Tissue Surgery
ATTACH;FMTTYPE=image/webp:https://esavs.org/wp-content/uploads/2025/04/esavs_sts_1.webp
END:VEVENT
BEGIN:VEVENT
DTSTART;VALUE=DATE:20250202
DTEND;VALUE=DATE:20250205
DTSTAMP:20260420T122624
CREATED:20250417T075036Z
LAST-MODIFIED:20251111T123353Z
UID:990000277-1738454400-1738713599@esavs.org
SUMMARY:Focus On – Soft Tissue Surgery
DESCRIPTION:
URL:https://esavs.org/event/focus-on-surgery-advanced-hernia-surgery-2026/
LOCATION:Bucharest / Romania\, JW Marriott Bucharest Grand Hotel\, Calea 13 Septembrie 90\, Bucharest\, Romania
CATEGORIES:Soft Tissue Surgery – Focus on
ATTACH;FMTTYPE=image/webp:https://esavs.org/wp-content/uploads/2025/10/esavs_focus_on_mini_invasive_surgery_1.webp
END:VEVENT
END:VCALENDAR