BEGIN:VCALENDAR
VERSION:2.0
PRODID:-//European School for Advanced Veterinary Studies - ECPv6.15.18//NONSGML v1.0//EN
CALSCALE:GREGORIAN
METHOD:PUBLISH
X-ORIGINAL-URL:https://esavs.org
X-WR-CALDESC:Events for European School for Advanced Veterinary Studies
REFRESH-INTERVAL;VALUE=DURATION:PT1H
X-Robots-Tag:noindex
X-PUBLISHED-TTL:PT1H
BEGIN:VTIMEZONE
TZID:Europe/Brussels
BEGIN:DAYLIGHT
TZOFFSETFROM:+0100
TZOFFSETTO:+0200
TZNAME:CEST
DTSTART:20250330T010000
END:DAYLIGHT
BEGIN:STANDARD
TZOFFSETFROM:+0200
TZOFFSETTO:+0100
TZNAME:CET
DTSTART:20251026T010000
END:STANDARD
BEGIN:DAYLIGHT
TZOFFSETFROM:+0100
TZOFFSETTO:+0200
TZNAME:CEST
DTSTART:20260329T010000
END:DAYLIGHT
BEGIN:STANDARD
TZOFFSETFROM:+0200
TZOFFSETTO:+0100
TZNAME:CET
DTSTART:20261025T010000
END:STANDARD
BEGIN:DAYLIGHT
TZOFFSETFROM:+0100
TZOFFSETTO:+0200
TZNAME:CEST
DTSTART:20270328T010000
END:DAYLIGHT
BEGIN:STANDARD
TZOFFSETFROM:+0200
TZOFFSETTO:+0100
TZNAME:CET
DTSTART:20271031T010000
END:STANDARD
BEGIN:DAYLIGHT
TZOFFSETFROM:+0100
TZOFFSETTO:+0200
TZNAME:CEST
DTSTART:20280326T010000
END:DAYLIGHT
BEGIN:STANDARD
TZOFFSETFROM:+0200
TZOFFSETTO:+0100
TZNAME:CET
DTSTART:20281029T010000
END:STANDARD
END:VTIMEZONE
BEGIN:VEVENT
DTSTART;VALUE=DATE:20260918
DTEND;VALUE=DATE:20260921
DTSTAMP:20260420T151335
CREATED:20250417T075036Z
LAST-MODIFIED:20251028T173922Z
UID:990000199-1789689600-1789948799@esavs.org
SUMMARY:Focus On - Soft Tissue Surgery
DESCRIPTION:
URL:https://esavs.org/event/focus-on-surgery-advanced-course-on-canine-esophageal-and-gastric-surgery/
LOCATION:Valencia\, Spain\, Valencia\, Spain
CATEGORIES:Soft Tissue Surgery – Focus on
ATTACH;FMTTYPE=image/webp:https://esavs.org/wp-content/uploads/2025/10/esavs_focus_on_mini_invasive_surgery_2.webp
END:VEVENT
BEGIN:VEVENT
DTSTART;VALUE=DATE:20260921
DTEND;VALUE=DATE:20260926
DTSTAMP:20260420T151335
CREATED:20240612T092228Z
LAST-MODIFIED:20260401T121214Z
UID:990000384-1789948800-1790380799@esavs.org
SUMMARY:Dentistry II
DESCRIPTION:
URL:https://esavs.org/event/dentistry-2-usa-september-2026/
LOCATION:Vancouver (WA) / USA\, M3 Inc. 1201 SE Tech Center Drive Suite 190\, Vancouver (WA)\, 98683\, United States
CATEGORIES:Dentistry
ATTACH;FMTTYPE=image/jpeg:https://esavs.org/wp-content/uploads/2024/06/esavs_dentistry-1-1-1.jpg
END:VEVENT
BEGIN:VEVENT
DTSTART;VALUE=DATE:20260925
DTEND;VALUE=DATE:20260930
DTSTAMP:20260420T151335
CREATED:20240612T092228Z
LAST-MODIFIED:20260330T083309Z
UID:990000343-1790294400-1790726399@esavs.org
SUMMARY:Oncology II
DESCRIPTION:
URL:https://esavs.org/event/oncology-2-september-2026/
LOCATION:Valencia / Spain\, Hotel NH València Las Arte\, Avenida Instituto Obrero\, 28\, Valencia\, 46013\, Spain
CATEGORIES:CASVM-MASVM,Oncology
ATTACH;FMTTYPE=image/webp:https://esavs.org/wp-content/uploads/2024/06/esavs_oncology_2.webp
END:VEVENT
BEGIN:VEVENT
DTSTART;VALUE=DATE:20260930
DTEND;VALUE=DATE:20261005
DTSTAMP:20260420T151335
CREATED:20240612T092228Z
LAST-MODIFIED:20260330T083226Z
UID:990000107-1790726400-1791158399@esavs.org
SUMMARY:Oncology III
DESCRIPTION:
URL:https://esavs.org/event/oncology-3-september-2026/
LOCATION:Valencia / Spain\, Hotel NH València Las Arte\, Avenida Instituto Obrero\, 28\, Valencia\, 46013\, Spain
CATEGORIES:CASVM-MASVM,Oncology
ATTACH;FMTTYPE=image/webp:https://esavs.org/wp-content/uploads/2024/06/esavs_oncology_3.webp
END:VEVENT
BEGIN:VEVENT
DTSTART;VALUE=DATE:20261001
DTEND;VALUE=DATE:20261113
DTSTAMP:20260420T151335
CREATED:20250416T132006Z
LAST-MODIFIED:20260417T061504Z
UID:990000388-1790812800-1794527999@esavs.org
SUMMARY:Soft Tissue Surgery I
DESCRIPTION:
URL:https://esavs.org/event/soft-tissue-surgery-1-november-2026/
LOCATION:Vienna\, Austria\, thv – International Training Center for Human & Veterinary Medicine Bergmillergasse 5\, Stiege 2\, Top 3\, Vienna\, 1140\, Austria
CATEGORIES:CASVM-MASVM,Soft Tissue Surgery
ATTACH;FMTTYPE=image/webp:https://esavs.org/wp-content/uploads/2025/04/esavs_sts_1.webp
END:VEVENT
BEGIN:VEVENT
DTSTART;VALUE=DATE:20261005
DTEND;VALUE=DATE:20261010
DTSTAMP:20260420T151335
CREATED:20240612T092228Z
LAST-MODIFIED:20260309T131229Z
UID:990000371-1791158400-1791590399@esavs.org
SUMMARY:Internal Medicine: Endoscopy Course Using Natural Orifices
DESCRIPTION:
URL:https://esavs.org/event/internal-medicine-endoscopy-course-using-natural-orifices-october-2026/
LOCATION:Vienna/Austria\, THV International Training Center for Human & Veterinary Medicine Bergmillergasse 5\, Stiege 2\, Top 5+6\, Vienna\, 1140
CATEGORIES:CASVM-MASVM,Internal Medicine,Endoscopy
ATTACH;FMTTYPE=image/webp:https://esavs.org/wp-content/uploads/2024/06/esavs_endoscopy_1.webp
END:VEVENT
BEGIN:VEVENT
DTSTART;VALUE=DATE:20261005
DTEND;VALUE=DATE:20261010
DTSTAMP:20260420T151335
CREATED:20250320T135102Z
LAST-MODIFIED:20260309T102739Z
UID:990000163-1791158400-1791590399@esavs.org
SUMMARY:Feline Internal Medicine I
DESCRIPTION:
URL:https://esavs.org/event/feline-internal-medicine-1-2026/
LOCATION:Online
CATEGORIES:CASVM-MASVM,Feline Medicine
ATTACH;FMTTYPE=image/webp:https://esavs.org/wp-content/uploads/2025/03/esavs_feline_im_1.webp
END:VEVENT
BEGIN:VEVENT
DTSTART;VALUE=DATE:20261012
DTEND;VALUE=DATE:20261017
DTSTAMP:20260420T151335
CREATED:20250319T071608Z
LAST-MODIFIED:20260309T111102Z
UID:990000325-1791763200-1792195199@esavs.org
SUMMARY:Lab Diagnostics: Cytology II
DESCRIPTION:
URL:https://esavs.org/event/lab-diagnostics-cytology-2-2026/
LOCATION:Porto / Portugal\, University of Porto - School of Medicine and Biomedical Sciences (ICBAS)  / R. de Jorge de Viterbo Ferreira 228\, Porto\, 4050-313\, Portugal
CATEGORIES:CASVM-MASVM,Lab Diagnostics
ATTACH;FMTTYPE=image/webp:https://esavs.org/wp-content/uploads/2025/03/esavs_lab-diagnostics_1.webp
END:VEVENT
BEGIN:VEVENT
DTSTART;VALUE=DATE:20261012
DTEND;VALUE=DATE:20261017
DTSTAMP:20260420T151335
CREATED:20250321T103156Z
LAST-MODIFIED:20260309T113435Z
UID:990000179-1791763200-1792195199@esavs.org
SUMMARY:Clinical Nutrition II
DESCRIPTION:
URL:https://esavs.org/event/clinical-nutrition-2-2026/
LOCATION:Vienna\, Austria\, Seminarhotel Springer Schlössl Tivoligasse 73\, Vienna\, 1120\, Austria
CATEGORIES:CASVM-MASVM,Nutrition
ATTACH;FMTTYPE=image/webp:https://esavs.org/wp-content/uploads/2025/03/esavs_clinical_nutrition_2.webp
END:VEVENT
BEGIN:VEVENT
DTSTART;VALUE=DATE:20261013
DTEND;VALUE=DATE:20261122
DTSTAMP:20260420T151335
CREATED:20250416T134506Z
LAST-MODIFIED:20260409T094501Z
UID:990000265-1791849600-1795305599@esavs.org
SUMMARY:Soft Tissue Surgery Basic Laparoscopy
DESCRIPTION:
URL:https://esavs.org/event/soft-tissue-surgery-basic-laparoscopy-2026/
LOCATION:Cluj-Napoca / Romania
CATEGORIES:CASVM-MASVM,Soft Tissue Surgery
ATTACH;FMTTYPE=image/webp:https://esavs.org/wp-content/uploads/2025/04/esavs_sts_laparascopy_1.webp
END:VEVENT
BEGIN:VEVENT
DTSTART;VALUE=DATE:20261015
DTEND;VALUE=DATE:20261018
DTSTAMP:20260420T151335
CREATED:20250417T090028Z
LAST-MODIFIED:20260213T100536Z
UID:990000272-1792022400-1792281599@esavs.org
SUMMARY:Focus On - Dermatology
DESCRIPTION:
URL:https://esavs.org/event/focus-on-dermatology-dermatopathology-october-2026/
LOCATION:Palma\, Spain\, Calle Ramón y Cajal\, 12\, Palma de Mallorca\, 07011\, Spain
CATEGORIES:Dermatology – Focus on
ATTACH;FMTTYPE=image/jpeg:https://esavs.org/wp-content/uploads/2024/06/esavs_dermatology-1-1.jpg
END:VEVENT
BEGIN:VEVENT
DTSTART;VALUE=DATE:20261019
DTEND;VALUE=DATE:20261022
DTSTAMP:20260420T151335
CREATED:20251222T120014Z
LAST-MODIFIED:20260121T105628Z
UID:990000357-1792368000-1792627199@esavs.org
SUMMARY:Focus On - Anaesthesia
DESCRIPTION:
URL:https://esavs.org/event/focus-on-anaesthesia-cardiac-anaesthesia-2026/
LOCATION:Crete / Greece
CATEGORIES:Anaesthesia & Pain Management - Focus on,Orthopaedic Surgery – Focus On
ATTACH;FMTTYPE=image/jpeg:https://esavs.org/wp-content/uploads/2024/06/anae1.jpg
END:VEVENT
BEGIN:VEVENT
DTSTART;VALUE=DATE:20261019
DTEND;VALUE=DATE:20261022
DTSTAMP:20260420T151335
CREATED:20250417T075036Z
LAST-MODIFIED:20260306T091452Z
UID:990000237-1792368000-1792627199@esavs.org
SUMMARY:Focus On - Mini-Invasive Surgery
DESCRIPTION:
URL:https://esavs.org/event/focus-on-surgery-advanced-small-animal-laparoscopy-masterclass/
LOCATION:Istanbul / Turkey\, Koç University Hospital Davutpaşa Caddesi No:4\, Topkapı\, Istanbul\, 34010\, Turkey
CATEGORIES:Mini-Invasive Surgery – Focus On
ATTACH;FMTTYPE=image/webp:https://esavs.org/wp-content/uploads/2025/10/esavs_focus_on_mini_invasive_surgery_1.webp
END:VEVENT
BEGIN:VEVENT
DTSTART;VALUE=DATE:20261023
DTEND;VALUE=DATE:20261026
DTSTAMP:20260420T151335
CREATED:20250417T090028Z
LAST-MODIFIED:20260319T083729Z
UID:990000360-1792713600-1792972799@esavs.org
SUMMARY:Focus On - Feline Medicine
DESCRIPTION:
URL:https://esavs.org/event/focus-on-feline-medicine-advanced-clinical-challenges/
LOCATION:Palma / Spain
CATEGORIES:Feline Medicine - Focus on
ATTACH;FMTTYPE=image/webp:https://esavs.org/wp-content/uploads/2025/03/esavs_feline_im_1.webp
END:VEVENT
BEGIN:VEVENT
DTSTART;VALUE=DATE:20261030
DTEND;VALUE=DATE:20261210
DTSTAMP:20260420T151335
CREATED:20250416T141527Z
LAST-MODIFIED:20260309T123040Z
UID:990000195-1793318400-1796860799@esavs.org
SUMMARY:Soft Tissue Surgery V
DESCRIPTION:
URL:https://esavs.org/event/soft-tissue-surgery-5-december-2026/
LOCATION:Bucharest/Romania
CATEGORIES:CASVM-MASVM,Soft Tissue Surgery
ATTACH;FMTTYPE=image/webp:https://esavs.org/wp-content/uploads/2025/04/esavs_sts_8.webp
END:VEVENT
BEGIN:VEVENT
DTSTART;VALUE=DATE:20261102
DTEND;VALUE=DATE:20261107
DTSTAMP:20260420T151335
CREATED:20240612T092228Z
LAST-MODIFIED:20260413T133745Z
UID:990000387-1793577600-1794009599@esavs.org
SUMMARY:Anaesthesia & Pain Management & Critical Care
DESCRIPTION:
URL:https://esavs.org/event/anaesthesia-pain-management-critical-care-2026/
LOCATION:Vienna\, Austria\, Vetklinikum LS GmbH & Co KG\, Laxenburgerstrasse 252a\, Vienna\, 1230\, Austria
CATEGORIES:CASVM-MASVM,Anaesthesia & Pain Management
ATTACH;FMTTYPE=image/jpeg:https://esavs.org/wp-content/uploads/2024/06/anae1.jpg
END:VEVENT
BEGIN:VEVENT
DTSTART;VALUE=DATE:20261106
DTEND;VALUE=DATE:20261109
DTSTAMP:20260420T151335
CREATED:20250417T070504Z
LAST-MODIFIED:20260302T144220Z
UID:990000198-1793923200-1794182399@esavs.org
SUMMARY:Focus On - Diagnostic Imaging
DESCRIPTION:
URL:https://esavs.org/event/focus-on-diagnostic-imaging-clinically-orientated-mri-neuroimaging/
LOCATION:Barcelona / Spain\, Barcelona\, Spain
CATEGORIES:Diagnostic Imaging – Focus on
ATTACH;FMTTYPE=image/webp:https://esavs.org/wp-content/uploads/2025/04/esavs_neuroimaging_2.webp
END:VEVENT
BEGIN:VEVENT
DTSTART;TZID=Europe/Brussels:20261107T000000
DTEND;TZID=Europe/Brussels:20261111T235900
DTSTAMP:20260420T151335
CREATED:20240612T092228Z
LAST-MODIFIED:20260309T091156Z
UID:990000347-1794009600-1794441540@esavs.org
SUMMARY:Dentistry II
DESCRIPTION:
URL:https://esavs.org/event/dentistry-2-november-2026/
LOCATION:Duleek\, Ireland\, iM3 Dental Limited - Unit 29\, Duleek Business Park\, Co.\, Meath\, A92 N72W\, Ireland
CATEGORIES:CASVM-MASVM,Dentistry
ATTACH;FMTTYPE=image/jpeg:https://esavs.org/wp-content/uploads/2024/06/esavs_dentistry-1-1-1.jpg
END:VEVENT
BEGIN:VEVENT
DTSTART;VALUE=DATE:20261113
DTEND;VALUE=DATE:20261118
DTSTAMP:20260420T151335
CREATED:20240612T092228Z
LAST-MODIFIED:20260420T095718Z
UID:990000160-1794528000-1794959999@esavs.org
SUMMARY:Dentistry V
DESCRIPTION:
URL:https://esavs.org/event/dentistry-5-november-2026/
LOCATION:Duleek\, Ireland\, iM3 Dental Limited - Unit 29\, Duleek Business Park\, Co.\, Meath\, A92 N72W\, Ireland
CATEGORIES:CASVM-MASVM,Dentistry
ATTACH;FMTTYPE=image/jpeg:https://esavs.org/wp-content/uploads/2024/06/esavs_dentistry-1-1-1.jpg
END:VEVENT
BEGIN:VEVENT
DTSTART;VALUE=DATE:20261114
DTEND;VALUE=DATE:20261117
DTSTAMP:20260420T151335
CREATED:20250417T075036Z
LAST-MODIFIED:20260304T102350Z
UID:990000366-1794614400-1794873599@esavs.org
SUMMARY:Focus On - Neurosurgery
DESCRIPTION:
URL:https://esavs.org/event/focus-on-surgery-spinal-surgery-2/
LOCATION:Vienna / Austria
CATEGORIES:Neurosurgery – Focus On
ATTACH;FMTTYPE=image/webp:https://esavs.org/wp-content/uploads/2025/04/esavs_focus_on_neurosurgery_2.webp
END:VEVENT
BEGIN:VEVENT
DTSTART;VALUE=DATE:20261118
DTEND;VALUE=DATE:20261121
DTSTAMP:20260420T151335
CREATED:20250417T075036Z
LAST-MODIFIED:20260408T115429Z
UID:990000386-1794960000-1795219199@esavs.org
SUMMARY:Focus On - Surgical Oncology
DESCRIPTION:
URL:https://esavs.org/event/focus-on-surgery-surgical-oncology-cutaneous-and-subcutaneous-tumors/
LOCATION:Vienna / Austria
CATEGORIES:Surgical Oncology – Focus On
ATTACH;FMTTYPE=image/webp:https://esavs.org/wp-content/uploads/2025/04/esavs_focus_on_surgical_oncology_2.webp
END:VEVENT
BEGIN:VEVENT
DTSTART;VALUE=DATE:20261119
DTEND;VALUE=DATE:20261128
DTSTAMP:20260420T151335
CREATED:20250321T134045Z
LAST-MODIFIED:20260309T115720Z
UID:990000184-1795046400-1795823999@esavs.org
SUMMARY:Orthopaedics I
DESCRIPTION:
URL:https://esavs.org/event/orthopaedics-1-november-2026/
LOCATION:Vienna / Austria
CATEGORIES:CASVM-MASVM,Orthopaedic Surgery
ATTACH;FMTTYPE=image/webp:https://esavs.org/wp-content/uploads/2025/03/esavs_orthopaedics_4.webp
END:VEVENT
BEGIN:VEVENT
DTSTART;VALUE=DATE:20261205
DTEND;VALUE=DATE:20261208
DTSTAMP:20260420T151335
CREATED:20251222T120014Z
LAST-MODIFIED:20260408T112139Z
UID:990000381-1796428800-1796687999@esavs.org
SUMMARY:Focus On - Exotic Pet Medicine
DESCRIPTION:
URL:https://esavs.org/event/focus-on-exotic-pet-medecine/
LOCATION:Hanover\, Germany
CATEGORIES:Exotic Pet Medicine – Focus On
ATTACH;FMTTYPE=image/webp:https://esavs.org/wp-content/uploads/2025/12/esavs_exotic_pets_medicine_3.webp
END:VEVENT
BEGIN:VEVENT
DTSTART;VALUE=DATE:20261207
DTEND;VALUE=DATE:20261210
DTSTAMP:20260420T151336
CREATED:20250417T075036Z
LAST-MODIFIED:20260212T130232Z
UID:990000367-1796601600-1796860799@esavs.org
SUMMARY:Focus On - Soft Tissue Surgery
DESCRIPTION:
URL:https://esavs.org/event/focus-on-surgery-sub-and-ureteral-surgery-masterclass/
LOCATION:Vienna / Austria
CATEGORIES:Soft Tissue Surgery – Focus on
ATTACH;FMTTYPE=image/webp:https://esavs.org/wp-content/uploads/2025/04/esavs_focus_on_surgery.webp
END:VEVENT
BEGIN:VEVENT
DTSTART;VALUE=DATE:20261209
DTEND;VALUE=DATE:20261214
DTSTAMP:20260420T151336
CREATED:20240612T092228Z
LAST-MODIFIED:20260312T121710Z
UID:990000374-1796774400-1797206399@esavs.org
SUMMARY:Oncology I
DESCRIPTION:
URL:https://esavs.org/event/oncology-1-december-2026/
LOCATION:Luxembourg\, NH Hotel Luxembourg\, 1 route de Trèves\, Niederanven\, 2633\, Luxembourg
CATEGORIES:CASVM-MASVM,Oncology
ATTACH;FMTTYPE=image/webp:https://esavs.org/wp-content/uploads/2024/06/esavs_oncology_2.webp
END:VEVENT
BEGIN:VEVENT
DTSTART;VALUE=DATE:20270209
DTEND;VALUE=DATE:20271116
DTSTAMP:20260420T151336
CREATED:20251009T081658Z
LAST-MODIFIED:20260206T114609Z
UID:990000309-1802131200-1826323199@esavs.org
SUMMARY:ESAVS Zertifikats – Lehrgang für tiermedizinische Fachangestellte Ernährung und Diätetik
DESCRIPTION:
URL:https://esavs.org/event/esavs-zertifikats-lehrgang-fur-tiermedizinische-fachangestellte-ernahrung-und-diatetik/
LOCATION:Hohenroda / DE
CATEGORIES:Veterinary Technicians
ATTACH;FMTTYPE=image/webp:https://esavs.org/wp-content/uploads/2025/10/esavs_clinical_nutrition_technicians.webp
END:VEVENT
END:VCALENDAR