BEGIN:VCALENDAR
VERSION:2.0
PRODID:-//European School for Advanced Veterinary Studies - ECPv6.15.18//NONSGML v1.0//EN
CALSCALE:GREGORIAN
METHOD:PUBLISH
X-ORIGINAL-URL:https://esavs.org
X-WR-CALDESC:Events for European School for Advanced Veterinary Studies
REFRESH-INTERVAL;VALUE=DURATION:PT1H
X-Robots-Tag:noindex
X-PUBLISHED-TTL:PT1H
BEGIN:VTIMEZONE
TZID:Europe/Brussels
BEGIN:DAYLIGHT
TZOFFSETFROM:+0100
TZOFFSETTO:+0200
TZNAME:CEST
DTSTART:20250330T010000
END:DAYLIGHT
BEGIN:STANDARD
TZOFFSETFROM:+0200
TZOFFSETTO:+0100
TZNAME:CET
DTSTART:20251026T010000
END:STANDARD
BEGIN:DAYLIGHT
TZOFFSETFROM:+0100
TZOFFSETTO:+0200
TZNAME:CEST
DTSTART:20260329T010000
END:DAYLIGHT
BEGIN:STANDARD
TZOFFSETFROM:+0200
TZOFFSETTO:+0100
TZNAME:CET
DTSTART:20261025T010000
END:STANDARD
BEGIN:DAYLIGHT
TZOFFSETFROM:+0100
TZOFFSETTO:+0200
TZNAME:CEST
DTSTART:20270328T010000
END:DAYLIGHT
BEGIN:STANDARD
TZOFFSETFROM:+0200
TZOFFSETTO:+0100
TZNAME:CET
DTSTART:20271031T010000
END:STANDARD
END:VTIMEZONE
BEGIN:VEVENT
DTSTART;TZID=Europe/Brussels:20260420T190000
DTEND;TZID=Europe/Brussels:20260420T200000
DTSTAMP:20260420T140206
CREATED:20250211T194851Z
LAST-MODIFIED:20260112T064456Z
UID:990000346-1776711600-1776715200@esavs.org
SUMMARY:Avian Medicine\, Session 1
DESCRIPTION:Managing avian respiratory distress from initial stabilization to discharge\nManaging avian respiratory distress – from crisis to care\nThis session will provide a comprehensive overview of the emergency management of respiratory distress in birds. Using clinical cases\, you will learn how to recognize life-threatening respiratory signs\, perform rapid assessments\, initiate first therapeutic emergency steps\, and develop a structured plan from stabilization through diagnostic work-up and ongoing treatment. \nAims:\n– Learn to rapidly identify and prioritize respiratory emergencies in avian patients\n– Understand how to stabilize patients efficiently with oxygen and supportive care\n– Develop stepwise diagnostic and therapeutic plans guiding discharge and follow-up \nPreparation material:\n• Documentation on avian respiratory anatomy and physiology\n• Case files featuring respiratory distress scenarios for pre-session review \nLive workshop:\nInteractive discussion of case management from initial presentation to successful resolution\, including diagnostic decision-making and complication avoidance.
URL:https://esavs.org/event/avian-medicine-session-1/
LOCATION:Online
CATEGORIES:CCM - Exotic Pet Medicine - Avian Medicine
END:VEVENT
BEGIN:VEVENT
DTSTART;TZID=Europe/Brussels:20260420T190000
DTEND;TZID=Europe/Brussels:20260420T210000
DTSTAMP:20260420T140206
CREATED:20250211T194851Z
LAST-MODIFIED:20260112T065009Z
UID:990000228-1776711600-1776718800@esavs.org
SUMMARY:Dermatology\, Session 3
DESCRIPTION:Autoimmune and immunemediated diseases – part II. – Dr. Chiara Noli\nThere are many autoimmune and immunomediated skin diseases in dogs and cats\, with different pathogenesis and cinical presentations. Some of them are easily diagnosed on clinical grounds but some others histopathology for the diagnosis. Depending on the disease\, therapeutical protocols may vary and the progonosis can be diverse. \nLearning outcomes:\nRational diagnostic and therapeutic approach to autoimmune and immunemediated skin diseases. \n 
URL:https://esavs.org/event/dermatology-session-3/
LOCATION:Online
CATEGORIES:CCM - Dermatology
END:VEVENT
END:VCALENDAR