BEGIN:VCALENDAR
VERSION:2.0
PRODID:-//European School for Advanced Veterinary Studies - ECPv6.15.18//NONSGML v1.0//EN
CALSCALE:GREGORIAN
METHOD:PUBLISH
X-WR-CALNAME:European School for Advanced Veterinary Studies
X-ORIGINAL-URL:https://esavs.org
X-WR-CALDESC:Events for European School for Advanced Veterinary Studies
REFRESH-INTERVAL;VALUE=DURATION:PT1H
X-Robots-Tag:noindex
X-PUBLISHED-TTL:PT1H
BEGIN:VTIMEZONE
TZID:Europe/Brussels
BEGIN:DAYLIGHT
TZOFFSETFROM:+0100
TZOFFSETTO:+0200
TZNAME:CEST
DTSTART:20250330T010000
END:DAYLIGHT
BEGIN:STANDARD
TZOFFSETFROM:+0200
TZOFFSETTO:+0100
TZNAME:CET
DTSTART:20251026T010000
END:STANDARD
BEGIN:DAYLIGHT
TZOFFSETFROM:+0100
TZOFFSETTO:+0200
TZNAME:CEST
DTSTART:20260329T010000
END:DAYLIGHT
BEGIN:STANDARD
TZOFFSETFROM:+0200
TZOFFSETTO:+0100
TZNAME:CET
DTSTART:20261025T010000
END:STANDARD
BEGIN:DAYLIGHT
TZOFFSETFROM:+0100
TZOFFSETTO:+0200
TZNAME:CEST
DTSTART:20270328T010000
END:DAYLIGHT
BEGIN:STANDARD
TZOFFSETFROM:+0200
TZOFFSETTO:+0100
TZNAME:CET
DTSTART:20271031T010000
END:STANDARD
BEGIN:DAYLIGHT
TZOFFSETFROM:+0100
TZOFFSETTO:+0200
TZNAME:CEST
DTSTART:20280326T010000
END:DAYLIGHT
BEGIN:STANDARD
TZOFFSETFROM:+0200
TZOFFSETTO:+0100
TZNAME:CET
DTSTART:20281029T010000
END:STANDARD
END:VTIMEZONE
BEGIN:VEVENT
DTSTART;TZID=Europe/Brussels:20261116T190000
DTEND;TZID=Europe/Brussels:20261116T200000
DTSTAMP:20260420T182146
CREATED:20250211T194851Z
LAST-MODIFIED:20260313T172719Z
UID:990000121-1794855600-1794859200@esavs.org
SUMMARY:Cytology\, Session 3
DESCRIPTION:Flow Cytometry: Elevating Diagnostic Precision in Lymphoma Diagnosis\nThe integration of cytology and flow cytometry has transformed our ability to achieve confident\, minimally invasive diagnoses of lymphoma in dogs and cats. In this advanced webinar\, we will begin with a focused review of flow cytometry principles and methodology before moving into complex\, real-world cases that challenge conventional interpretation. Through these cases\, we will demonstrate how nuanced analysis of flow cytometric data can decisively guide accurate diagnosis\, refine clinical decision-making\, and ultimately improve patient outcomes. \nLearning Outcomes:\nBy the end of this webinar\, participants will: \n-Gain a deeper\, clinically relevant understanding of flow cytometry technology\n-Understand the thought process involved in the interpretation of complex flow results\n-Apply flow cytometry strategically and appropriately in the diagnostic workup of lymphoma\n-Increase confidence in making accurate lymphoma diagnoses in canine and feline patients \nSpeaker: Nic Ilchyshyn DVM\, FRCPath\, Dipl.ECVCP\, MRCVS\, Antech Diagnostics\, UK\n 
URL:https://esavs.org/event/cytology-session-3/
LOCATION:Online
CATEGORIES:CCM - Cytology
END:VEVENT
BEGIN:VEVENT
DTSTART;TZID=Europe/Brussels:20261116T190000
DTEND;TZID=Europe/Brussels:20261116T200000
DTSTAMP:20260420T182146
CREATED:20250211T194851Z
LAST-MODIFIED:20251215T073250Z
UID:990000134-1794855600-1794859200@esavs.org
SUMMARY:Emergency & Critical care\, Session 10
DESCRIPTION:Neuro-muscular Ischemia\nNeuromuscular ischemia is a rare but serious complication in small animal patients\, often resulting from prolonged pressure\, vascular compromise\, or underlying systemic disease. Prompt recognition and intervention are critical\, as delayed treatment can lead to permanent neuromuscular deficits.\nIn this case-based webinar we will revisit the pathophysiology of neuromuscular ischemia\, with a focus on the “Kippfenster syndrome” and other clinically relevant presentations. Through illustrative cases\, we will highlight the importance of early recognition\, timely intervention\, and careful monitoring to optimize patient outcomes. Special emphasis will be placed on practical management strategies\, including pain control\, reperfusion approaches\, and supportive care to minimize long-term functional loss. \nLearning outcome:\nAfter this webinar\, participants will be able to recognize signs of neuromuscular ischemia\, assess severity and implement timely interventions and supportive care to prevent permanent deficits and improve patient recovery. \n 
URL:https://esavs.org/event/emergency-and-critical-care-session-10/
LOCATION:Online
CATEGORIES:CCM - Emergency & Critical Care
END:VEVENT
BEGIN:VEVENT
DTSTART;TZID=Europe/Brussels:20261116T190000
DTEND;TZID=Europe/Brussels:20261116T210000
DTSTAMP:20260420T182146
CREATED:20250211T194851Z
LAST-MODIFIED:20260112T065223Z
UID:990000234-1794855600-1794862800@esavs.org
SUMMARY:Dermatology\, Session 9
DESCRIPTION:Fungal skin diseases. – Dr. Chiara Noli\nThere are several fungal diseases\, the most common ones are caused by dermatophytes usually growing on hair or skin keratin. Other less common usually saprophytic fungi can grow in the subcutis\, particularly in inmmumocompromised animals\, while others cause systemic infections. Many of these fungal agents are zoonotic and should be well identified and treated to avoid contamination. \nLearning outcomes:\nRational diagnosis\, treatment and monitoring of dogs with dermatopytosis\, subcutaneous or systemic fungal diseases \n 
URL:https://esavs.org/event/dermatology-session-9/
LOCATION:Online
CATEGORIES:CCM - Dermatology
END:VEVENT
BEGIN:VEVENT
DTSTART;TZID=Europe/Brussels:20261123T190000
DTEND;TZID=Europe/Brussels:20261123T200000
DTSTAMP:20260420T182146
CREATED:20250211T194851Z
LAST-MODIFIED:20260112T064631Z
UID:990000352-1795460400-1795464000@esavs.org
SUMMARY:Avian Medicine\, Session 5
DESCRIPTION:Managing lameness in birds: is it really so basic?\nAvian lameness – more than meets the eye\nLameness in birds can have complex causes. This session covers orthopedic\, neurologic\, and infectious factors contributing to lameness\, with an emphasis on diagnostic imaging and treatment. \nAims:\n– Differentiate causes of lameness through systematic clinical approach\n– Learn appropriate use of radiography\, cytology and other diagnostics\n– Discuss effective treatment strategies tailored to underlying cause \nPreparation material:\n• Documentation on avian musculoskeletal and peripheral nervous system anatomy and physiology\n• Selected case files illustrating diverse etiologieson \nLive workshop:\nHands-on case discussions to enhance clinical reasoning and management skills.
URL:https://esavs.org/event/avian-medicine-session-5/
LOCATION:Online
CATEGORIES:CCM - Exotic Pet Medicine - Avian Medicine
END:VEVENT
BEGIN:VEVENT
DTSTART;TZID=Europe/Brussels:20261124T190000
DTEND;TZID=Europe/Brussels:20261124T200000
DTSTAMP:20260420T182146
CREATED:20250211T194851Z
LAST-MODIFIED:20251217T094601Z
UID:990000140-1795546800-1795550400@esavs.org
SUMMARY:Feline Medicine\, Session 7
DESCRIPTION:Feline lower urinary tract disease – a never ending story…\nA common presentation in daily praxis. The cat with idiopathic cystitis – or shall we better say „stress induced feline lower urinary tract syndrome“? Aren`t thea all stress-induced? Even those with crystalluria\, urolthiasis and secondary bacterial infection? Let`s talk about the different presentations of FLUTD and how to deal with them.\nAims:\n– Implement guidelines for a severly sick\, hyperkalaemic\, obstructed tom cat\n– Find out about tips and tricks for catheterization\n– Learn how to do a decompressive cystocentesis\n– Become familiar with urinary sediment findings (focus: crystalluria)\n– Develop guidlines fot the management of stress induced feline lower urinary tract syndrome\nPreparation material:\n• Reading material: Background information on FLUTD etiopathogenesis\n• Reading material: Treating stress induced feline lower urinary tract syndrome + multimodal environmental modification\nLive workshop:\nOne case that is severly hyperkalaemic – why catherization is not necessarily the first thing to do and what needs to be done.\nOne case that cannot be catheterized – how to proceed if it is getting difficult. Includes a cystocentesis workshop.\nOne case that has got urolithiasis – what to do. Includes a quiz on crystalluria and on radiographic detection of urolithiasis in more locations than just the urinary bladder\nOne case that is being presented with recurrent episodes – which measures do we need to focus on if it comes to prevention and stress management? Let`s bring our knowledge together. \n 
URL:https://esavs.org/event/feline-medicine-session-7/
LOCATION:Online
CATEGORIES:CCM - Feline Medicine
END:VEVENT
BEGIN:VEVENT
DTSTART;TZID=Europe/Brussels:20261207T190000
DTEND;TZID=Europe/Brussels:20261207T200000
DTSTAMP:20260420T182146
CREATED:20250211T194851Z
LAST-MODIFIED:20260312T084006Z
UID:990000122-1796670000-1796673600@esavs.org
SUMMARY:Cytology\, Session 4
DESCRIPTION:Inside the Marrow: Diagnostic Bone Marrow Cases in Clinical Practice\nBone marrow evaluation is a critical diagnostic step when peripheral blood findings fail to fully explain a patient’s clinical picture. Interpretation of bone marrow samples requires a structured approach and careful integration of cytologic findings with clinical information\, hematologic data\, and histologic evaluation of core biopsy specimens. In this webinar\, we will work through a series of clinical cases illustrating common diagnostic challenges encountered during bone marrow evaluation in dogs and cats. Particular emphasis will be placed on recognizing cytologic patterns of disease\, correlating cytologic findings with core biopsy histology\, and understanding how ancillary diagnostics such as PCR-based testing\, PARR\, flow cytometry\, and immunohistochemistry can refine the final diagnosis. \nLearning Outcomes:\nAfter the webinar\, participants will be able to: \n-Apply a structured approach to the interpretation of bone marrow cytology.\n-Recognize key cytologic patterns associated with important marrow disorders.\n-Understand the complementary roles of cytology\, core biopsy histology\, and ancillary diagnostics in bone marrow evaluation.\n-Integrate bone marrow findings with clinical and hematologic data to guide diagnostic decision-making \nSpeaker: Francisco Conrado DVM\, MSc\, DACVP (Clinical Pathology)\, Tufts University\, USA\n 
URL:https://esavs.org/event/cytology-session-4/
LOCATION:Online
CATEGORIES:CCM - Cytology
END:VEVENT
BEGIN:VEVENT
DTSTART;TZID=Europe/Brussels:20261214T190000
DTEND;TZID=Europe/Brussels:20261214T200000
DTSTAMP:20260420T182146
CREATED:20250211T194851Z
LAST-MODIFIED:20260112T064708Z
UID:990000353-1797274800-1797278400@esavs.org
SUMMARY:Avian Medicine\, Session 6
DESCRIPTION:Help! The bird has a seizure!\nSeizure management in birds – emergency and diagnostics\nNeurological emergencies pose particular challenges in avian medicine. This session discusses the recognition of seizures\, initial stabilizing care\, and diagnostic pathways toward identifying underlying causes. \nAims:\n– Recognize clinical features of seizures in avian patients\n– Learn emergency stabilization protocols and safety considerations\n– Develop diagnostic and therapeutic plans for neurologic disorderse \nPreparation material:\n• Documentation on avian central neurologic system anatomy and physiology\n• Case studies presenting seizure emergencies \nLive workshop:\nStepwise clinical discussion from seizure identification to diagnosis and ongoing management.
URL:https://esavs.org/event/avian-medicine-session-6/
LOCATION:Online
CATEGORIES:CCM - Exotic Pet Medicine - Avian Medicine
END:VEVENT
BEGIN:VEVENT
DTSTART;TZID=Europe/Brussels:20261214T190000
DTEND;TZID=Europe/Brussels:20261214T210000
DTSTAMP:20260420T182146
CREATED:20250211T194851Z
LAST-MODIFIED:20260112T065239Z
UID:990000235-1797274800-1797282000@esavs.org
SUMMARY:Dermatology\, Session 10
DESCRIPTION:Otitis externa and media in dogs and cats. – Dr. Manolis Saridomichelakis\nOtitis media is one of the perpetuating factors of otitis externa and is especially common in chronic and relapsing cases. Furthermore\, there are some less common cases of otitis media that may not be accompanied by otitis externa\, such as primary otitis media with effusion in dogs and middle ear polyps in cats. Neurological signs and extension of inflammation into the inner ear can occur. Management depends on the cause and differs from that of otitis externa without otitis media \nLearning outcomes:\nRational diagnosis and medical management of dogs and cats with otitis media. \n 
URL:https://esavs.org/event/dermatology-session-10/
LOCATION:Online
CATEGORIES:CCM - Dermatology
END:VEVENT
BEGIN:VEVENT
DTSTART;TZID=Europe/Brussels:20261215T190000
DTEND;TZID=Europe/Brussels:20261215T200000
DTSTAMP:20260420T182146
CREATED:20250211T194851Z
LAST-MODIFIED:20251217T094638Z
UID:990000345-1797361200-1797364800@esavs.org
SUMMARY:Feline Medicine\, Session 8
DESCRIPTION:Dyspnoea – a challenge that can be managed!\nThe dyspnoeic cat presents a real challenge in clinical practice — and things can easily go wrong. This session explores how blood tests and other diagnostic strategies can help avoid frustration and improve outcomes.\nLearning Objectives:\n– Understand how recognizing breathing patterns can help identify the type of disease\n– Learn an easy approach to interpreting radiographic lung patterns\n– Follow a structured diagnostic pathway for better clinical success\n– Discover how blood tests can narrow down differential diagnoses\nPreparation material:\n• Overview of breathing patterns and how they help localize the problem (including short videos with explanations)\n• Brief introduction to radiographic pulmonary pattern\nLive workshop:\nCase 1: Got the sniffles? The many faces of cat flu. Dyspnoea does not always indicate pulmonary disease — and cat flu is more than just conjunctivitis. Let’s review a case that make us think twice.\nCase 2: Dyspnoea – When furosemide fails. If there’s no response to furosemide\, increasing the dose won’t help. Let’s discuss effective alternatives.\n 
URL:https://esavs.org/event/feline-medicine-session-8/
LOCATION:Online
CATEGORIES:CCM - Feline Medicine
END:VEVENT
BEGIN:VEVENT
DTSTART;TZID=Europe/Brussels:20270111T190000
DTEND;TZID=Europe/Brussels:20270111T200000
DTSTAMP:20260420T182146
CREATED:20250211T194851Z
LAST-MODIFIED:20260312T084014Z
UID:990000220-1799694000-1799697600@esavs.org
SUMMARY:Cytology\, Session 5
DESCRIPTION:Approach to Liver Cytology: common and uncommon cases\nLiver cytology is a useful diagnostic tool in the clinic setting\, but its interpretation can be challenging at times. In this discussion\, we will learn about liver cytology through real case examples. We will discuss normal vs abnormal findings and correlate these changes with the clinical presentation and other clinicopathologic findings. \nLearning outcomes:\nAfter the webinar\, participants will be able to: \n-Understand a general approach liver cytology\n-Recognize common and uncommon cytologic findings and understand their clinical significance. \nSpeaker: Sarah Jacobson DVM\, Resident in Veterinary Clinical Pathology\, Texas A&M University (USA)\n 
URL:https://esavs.org/event/cytology-session-5/
LOCATION:Online
CATEGORIES:CCM - Cytology
END:VEVENT
END:VCALENDAR