BEGIN:VCALENDAR
VERSION:2.0
PRODID:-//European School for Advanced Veterinary Studies - ECPv6.15.18//NONSGML v1.0//EN
CALSCALE:GREGORIAN
METHOD:PUBLISH
X-WR-CALNAME:European School for Advanced Veterinary Studies
X-ORIGINAL-URL:https://esavs.org
X-WR-CALDESC:Events for European School for Advanced Veterinary Studies
REFRESH-INTERVAL;VALUE=DURATION:PT1H
X-Robots-Tag:noindex
X-PUBLISHED-TTL:PT1H
BEGIN:VTIMEZONE
TZID:Europe/Brussels
BEGIN:DAYLIGHT
TZOFFSETFROM:+0100
TZOFFSETTO:+0200
TZNAME:CEST
DTSTART:20250330T010000
END:DAYLIGHT
BEGIN:STANDARD
TZOFFSETFROM:+0200
TZOFFSETTO:+0100
TZNAME:CET
DTSTART:20251026T010000
END:STANDARD
BEGIN:DAYLIGHT
TZOFFSETFROM:+0100
TZOFFSETTO:+0200
TZNAME:CEST
DTSTART:20260329T010000
END:DAYLIGHT
BEGIN:STANDARD
TZOFFSETFROM:+0200
TZOFFSETTO:+0100
TZNAME:CET
DTSTART:20261025T010000
END:STANDARD
BEGIN:DAYLIGHT
TZOFFSETFROM:+0100
TZOFFSETTO:+0200
TZNAME:CEST
DTSTART:20270328T010000
END:DAYLIGHT
BEGIN:STANDARD
TZOFFSETFROM:+0200
TZOFFSETTO:+0100
TZNAME:CET
DTSTART:20271031T010000
END:STANDARD
END:VTIMEZONE
BEGIN:VEVENT
DTSTART;TZID=Europe/Brussels:20260525T190000
DTEND;TZID=Europe/Brussels:20260525T200000
DTSTAMP:20260420T165115
CREATED:20250211T194851Z
LAST-MODIFIED:20260112T064524Z
UID:990000349-1779735600-1779739200@esavs.org
SUMMARY:Avian Medicine\, Session 2
DESCRIPTION:Regurgitation in birds: building a sound diagnostic plan to tailor the treatment plan\nRegurgitation in birds – systematic diagnosis and tailored treatment\nThis session focuses on avian regurgitation\, exploring underlying causes and diagnostic pitfalls. Cases will show how to gather history\, perform physical exams\, and use imaging and laboratory data to establish targeted therapies. \nAims:\n– Understand differential diagnoses for regurgitation across avian species\n– Learn how to build a reliable\, stepwise diagnostic approach\n– Create individualized treatment plans based on findings \nPreparation material:\n• Documentation on avian digestive anatomy and physiology\n• Case materials illustrating various regurgitation causes \nLive workshop:\nGroup discussion of cases\, emphasizing critical thinking in diagnostics and formulation of effective treatment protocols.
URL:https://esavs.org/event/avian-medicine-session-2/
LOCATION:Online
CATEGORIES:CCM - Exotic Pet Medicine - Avian Medicine
END:VEVENT
END:VCALENDAR