BEGIN:VCALENDAR
VERSION:2.0
PRODID:-//European School for Advanced Veterinary Studies - ECPv6.15.18//NONSGML v1.0//EN
CALSCALE:GREGORIAN
METHOD:PUBLISH
X-ORIGINAL-URL:https://esavs.org
X-WR-CALDESC:Events for European School for Advanced Veterinary Studies
REFRESH-INTERVAL;VALUE=DURATION:PT1H
X-Robots-Tag:noindex
X-PUBLISHED-TTL:PT1H
BEGIN:VTIMEZONE
TZID:Europe/Brussels
BEGIN:DAYLIGHT
TZOFFSETFROM:+0100
TZOFFSETTO:+0200
TZNAME:CEST
DTSTART:20250330T010000
END:DAYLIGHT
BEGIN:STANDARD
TZOFFSETFROM:+0200
TZOFFSETTO:+0100
TZNAME:CET
DTSTART:20251026T010000
END:STANDARD
BEGIN:DAYLIGHT
TZOFFSETFROM:+0100
TZOFFSETTO:+0200
TZNAME:CEST
DTSTART:20260329T010000
END:DAYLIGHT
BEGIN:STANDARD
TZOFFSETFROM:+0200
TZOFFSETTO:+0100
TZNAME:CET
DTSTART:20261025T010000
END:STANDARD
BEGIN:DAYLIGHT
TZOFFSETFROM:+0100
TZOFFSETTO:+0200
TZNAME:CEST
DTSTART:20270328T010000
END:DAYLIGHT
BEGIN:STANDARD
TZOFFSETFROM:+0200
TZOFFSETTO:+0100
TZNAME:CET
DTSTART:20271031T010000
END:STANDARD
END:VTIMEZONE
BEGIN:VEVENT
DTSTART;TZID=Europe/Brussels:20260429T190000
DTEND;TZID=Europe/Brussels:20260429T200000
DTSTAMP:20260420T165234
CREATED:20250211T194851Z
LAST-MODIFIED:20251215T073041Z
UID:990000128-1777489200-1777492800@esavs.org
SUMMARY:Emergency & Critical care\, Session 5
DESCRIPTION:Sodium Disorders\nDisorders of sodium balance can present significant therapeutic challenges in the emergency setting. Both hypo- and hypernatremia can lead to life-threatening neurological signs\, and safe correction requires the understanding of pathophysiological processes associated with sodium disorders.\nIn this case-based webinar we will discuss how to interpret clinical and laboratory parameters in order to choose the timeframe of sodium correction\, avoiding iatrogenic complications\, and selecting appropriate fluid therapy tailored to the individual patient.\nClinical cases will highlight practical decision-making and illustrate the balance between rapid stabilization and the prevention of secondary injury. \nLearning outcome:\nAfter this webinar\, participants will be able to implement safe and effective correction strategies\, and tailor fluid therapy to optimize outcomes while minimizing the risk of complications. \n 
URL:https://esavs.org/event/emergency-and-critical-care-session-5/
LOCATION:Online
CATEGORIES:CCM - Emergency & Critical Care
END:VEVENT
END:VCALENDAR