BEGIN:VCALENDAR
VERSION:2.0
PRODID:-//European School for Advanced Veterinary Studies - ECPv6.15.18//NONSGML v1.0//EN
CALSCALE:GREGORIAN
METHOD:PUBLISH
X-WR-CALNAME:European School for Advanced Veterinary Studies
X-ORIGINAL-URL:https://esavs.org
X-WR-CALDESC:Events for European School for Advanced Veterinary Studies
REFRESH-INTERVAL;VALUE=DURATION:PT1H
X-Robots-Tag:noindex
X-PUBLISHED-TTL:PT1H
BEGIN:VTIMEZONE
TZID:Europe/Brussels
BEGIN:DAYLIGHT
TZOFFSETFROM:+0100
TZOFFSETTO:+0200
TZNAME:CEST
DTSTART:20250330T010000
END:DAYLIGHT
BEGIN:STANDARD
TZOFFSETFROM:+0200
TZOFFSETTO:+0100
TZNAME:CET
DTSTART:20251026T010000
END:STANDARD
BEGIN:DAYLIGHT
TZOFFSETFROM:+0100
TZOFFSETTO:+0200
TZNAME:CEST
DTSTART:20260329T010000
END:DAYLIGHT
BEGIN:STANDARD
TZOFFSETFROM:+0200
TZOFFSETTO:+0100
TZNAME:CET
DTSTART:20261025T010000
END:STANDARD
BEGIN:DAYLIGHT
TZOFFSETFROM:+0100
TZOFFSETTO:+0200
TZNAME:CEST
DTSTART:20270328T010000
END:DAYLIGHT
BEGIN:STANDARD
TZOFFSETFROM:+0200
TZOFFSETTO:+0100
TZNAME:CET
DTSTART:20271031T010000
END:STANDARD
END:VTIMEZONE
BEGIN:VEVENT
DTSTART;TZID=Europe/Brussels:20260226T190000
DTEND;TZID=Europe/Brussels:20260226T200000
DTSTAMP:20260420T165119
CREATED:20250211T194851Z
LAST-MODIFIED:20251215T072847Z
UID:990000125-1772132400-1772136000@esavs.org
SUMMARY:Emergency & Critical care\, Session 2
DESCRIPTION:Neuro-Toxicities\nWhen faced with patients presenting with acute neurological signs\, the emergency clinician must rapidly consider toxicities as a possible underlying cause.\nIn this case-based webinar we will revisit the most common toxic agents leading to neurological signs in small animals\, including tremor- and seizure-inducing toxins as well as those causing altered mentation or weakness. We will discuss how to structure the diagnostic approach when the toxin is unknown\, how to stabilize patients with life-threatening neurological manifestations\, and which decontamination and specific therapies should be prioritized. \nLearning outcome:\nAfter this webinar\, participants will be able to recognize neurological signs associated with common toxicities\, implement an effective stabilization and decontamination plan\, and prioritize emergency interventions to improve patient outcomes in time-critical situations \n 
URL:https://esavs.org/event/emergency-and-critical-care-session-2/
LOCATION:Online
CATEGORIES:CCM - Emergency & Critical Care
END:VEVENT
END:VCALENDAR