BEGIN:VCALENDAR
VERSION:2.0
PRODID:-//European School for Advanced Veterinary Studies - ECPv6.15.18//NONSGML v1.0//EN
CALSCALE:GREGORIAN
METHOD:PUBLISH
X-WR-CALNAME:European School for Advanced Veterinary Studies
X-ORIGINAL-URL:https://esavs.org
X-WR-CALDESC:Events for European School for Advanced Veterinary Studies
REFRESH-INTERVAL;VALUE=DURATION:PT1H
X-Robots-Tag:noindex
X-PUBLISHED-TTL:PT1H
BEGIN:VTIMEZONE
TZID:Europe/Brussels
BEGIN:DAYLIGHT
TZOFFSETFROM:+0100
TZOFFSETTO:+0200
TZNAME:CEST
DTSTART:20250330T010000
END:DAYLIGHT
BEGIN:STANDARD
TZOFFSETFROM:+0200
TZOFFSETTO:+0100
TZNAME:CET
DTSTART:20251026T010000
END:STANDARD
BEGIN:DAYLIGHT
TZOFFSETFROM:+0100
TZOFFSETTO:+0200
TZNAME:CEST
DTSTART:20260329T010000
END:DAYLIGHT
BEGIN:STANDARD
TZOFFSETFROM:+0200
TZOFFSETTO:+0100
TZNAME:CET
DTSTART:20261025T010000
END:STANDARD
BEGIN:DAYLIGHT
TZOFFSETFROM:+0100
TZOFFSETTO:+0200
TZNAME:CEST
DTSTART:20270328T010000
END:DAYLIGHT
BEGIN:STANDARD
TZOFFSETFROM:+0200
TZOFFSETTO:+0100
TZNAME:CET
DTSTART:20271031T010000
END:STANDARD
END:VTIMEZONE
BEGIN:VEVENT
DTSTART;TZID=Europe/Brussels:20260121T190000
DTEND;TZID=Europe/Brussels:20260121T200000
DTSTAMP:20260420T211826
CREATED:20250211T194851Z
LAST-MODIFIED:20251215T074005Z
UID:990000239-1769022000-1769025600@esavs.org
SUMMARY:Clinical Nutrition\, Session 1
DESCRIPTION:Skin Disease I — The Itchies (Allergy/Atopy)\nThis session reviews the diagnostic approach and management strategies for pruritic skin disease\, focusing on food allergy\, environmental allergy\, atopic dermatitis\, and mixed presentations. Nutrition plays a particularly important role in the itchy patient—this webinar connects the dots. \nLearning outcomes:\nParticipants will learn to: \n– Differentiate between common causes of pruritus using evidence-based diagnostic pathways.\n– Implement elimination diets effectively and interpret results accurately.\n– Use nutrition as a tool for controlling inflammation and supporting the skin barrier.\n– Communicate realistic expectations and timelines for allergic skin disease management.
URL:https://esavs.org/event/clinical-nutrition-session-1/
LOCATION:Online
CATEGORIES:CCM - Clinical Nutrition
END:VEVENT
END:VCALENDAR