BEGIN:VCALENDAR
VERSION:2.0
PRODID:-//European School for Advanced Veterinary Studies - ECPv6.15.18//NONSGML v1.0//EN
CALSCALE:GREGORIAN
METHOD:PUBLISH
X-ORIGINAL-URL:https://esavs.org
X-WR-CALDESC:Events for European School for Advanced Veterinary Studies
REFRESH-INTERVAL;VALUE=DURATION:PT1H
X-Robots-Tag:noindex
X-PUBLISHED-TTL:PT1H
BEGIN:VTIMEZONE
TZID:Europe/Brussels
BEGIN:DAYLIGHT
TZOFFSETFROM:+0100
TZOFFSETTO:+0200
TZNAME:CEST
DTSTART:20250330T010000
END:DAYLIGHT
BEGIN:STANDARD
TZOFFSETFROM:+0200
TZOFFSETTO:+0100
TZNAME:CET
DTSTART:20251026T010000
END:STANDARD
BEGIN:DAYLIGHT
TZOFFSETFROM:+0100
TZOFFSETTO:+0200
TZNAME:CEST
DTSTART:20260329T010000
END:DAYLIGHT
BEGIN:STANDARD
TZOFFSETFROM:+0200
TZOFFSETTO:+0100
TZNAME:CET
DTSTART:20261025T010000
END:STANDARD
BEGIN:DAYLIGHT
TZOFFSETFROM:+0100
TZOFFSETTO:+0200
TZNAME:CEST
DTSTART:20270328T010000
END:DAYLIGHT
BEGIN:STANDARD
TZOFFSETFROM:+0200
TZOFFSETTO:+0100
TZNAME:CET
DTSTART:20271031T010000
END:STANDARD
END:VTIMEZONE
BEGIN:VEVENT
DTSTART;TZID=Europe/Brussels:20260112T190000
DTEND;TZID=Europe/Brussels:20260112T200000
DTSTAMP:20260420T212103
CREATED:20250211T194851Z
LAST-MODIFIED:20251215T072916Z
UID:990000123-1768244400-1768248000@esavs.org
SUMMARY:Emergency & Critical care\, Session 1
DESCRIPTION:Complicated Trauma Cases\nAs emergency clinicians we are often faced with polytrauma patients where injuries to multiple body systems must be prioritized and addressed simultaneously.\nIn this case-based webinar we will revisit the systematic approach to the trauma patient\, emphasizing how to recognize life-threatening thoracic and abdominal injuries early and how to prioritize diagnostics and interventions in the emergency setting.\nWe will discuss practical strategies for stabilizing patients with chest trauma\, including the management of pneumothorax\, hemothorax\, and severe pulmonary contusions\, as well as the emergency approach to abdominal trauma. As in previous CCMs\, this will be a very interactive evening session \nLearning outcome:\nAfter this webinar\, participants will be able to apply a structured emergency approach to polytrauma patients\, recognize and prioritize life-threatening chest and abdominal injuries\, and make informed decisions about stabilization and further interventions under time-critical conditions.
URL:https://esavs.org/event/emergency-and-critical-care-session-1/
LOCATION:Online
CATEGORIES:CCM - Emergency & Critical Care
END:VEVENT
END:VCALENDAR