BEGIN:VCALENDAR
VERSION:2.0
PRODID:-//European School for Advanced Veterinary Studies - ECPv6.15.18//NONSGML v1.0//EN
CALSCALE:GREGORIAN
METHOD:PUBLISH
X-WR-CALNAME:European School for Advanced Veterinary Studies
X-ORIGINAL-URL:https://esavs.org
X-WR-CALDESC:Events for European School for Advanced Veterinary Studies
REFRESH-INTERVAL;VALUE=DURATION:PT1H
X-Robots-Tag:noindex
X-PUBLISHED-TTL:PT1H
BEGIN:VTIMEZONE
TZID:Europe/Brussels
BEGIN:DAYLIGHT
TZOFFSETFROM:+0100
TZOFFSETTO:+0200
TZNAME:CEST
DTSTART:20250330T010000
END:DAYLIGHT
BEGIN:STANDARD
TZOFFSETFROM:+0200
TZOFFSETTO:+0100
TZNAME:CET
DTSTART:20251026T010000
END:STANDARD
BEGIN:DAYLIGHT
TZOFFSETFROM:+0100
TZOFFSETTO:+0200
TZNAME:CEST
DTSTART:20260329T010000
END:DAYLIGHT
BEGIN:STANDARD
TZOFFSETFROM:+0200
TZOFFSETTO:+0100
TZNAME:CET
DTSTART:20261025T010000
END:STANDARD
BEGIN:DAYLIGHT
TZOFFSETFROM:+0100
TZOFFSETTO:+0200
TZNAME:CEST
DTSTART:20270328T010000
END:DAYLIGHT
BEGIN:STANDARD
TZOFFSETFROM:+0200
TZOFFSETTO:+0100
TZNAME:CET
DTSTART:20271031T010000
END:STANDARD
END:VTIMEZONE
BEGIN:VEVENT
DTSTART;TZID=Europe/Brussels:20261005T190000
DTEND;TZID=Europe/Brussels:20261005T200000
DTSTAMP:20260421T000006
CREATED:20250211T194851Z
LAST-MODIFIED:20260312T083951Z
UID:990000120-1791226800-1791230400@esavs.org
SUMMARY:Cytology\, Session 2
DESCRIPTION:Expect the unexpected: how cytology can redirect a case \nCytology is often used to support a clinical suspicion — one piece of the diagnostic puzzle. Many times it confirms what we expect. Occasionally\, however\, it completely changes the picture. In this webinar\, we will discuss clinical cases where cytology delivered unexpected answers and redirected the diagnostic approach — a reminder that when something “quacks like a duck”\, it isn’t always a duck. \nLearning Outcomes:\nBy the end of this webinar\, participants will: \n-Recognise ow cytology can challenge initial clinical assumptions\n-Integrate cytological findings critically into clinical decision-making. \nSpeaker: Paola Cazzini DVM\, MS\, DiplACVP (Clin Path)\, MRCVS\, University of Edinburgh\, UK\n 
URL:https://esavs.org/event/cytology-session-2/
LOCATION:Online
CATEGORIES:CCM - Cytology
END:VEVENT
BEGIN:VEVENT
DTSTART;TZID=Europe/Brussels:20261012T190000
DTEND;TZID=Europe/Brussels:20261012T210000
DTSTAMP:20260421T000006
CREATED:20250211T194851Z
LAST-MODIFIED:20260112T065159Z
UID:990000233-1791831600-1791838800@esavs.org
SUMMARY:Dermatology\, Session 8
DESCRIPTION:Otitis externa in dogs and cats. – Dr. Manolis Saridomichelakis\nOtitis externa is one of the most common reasons for consultation in small animal clinical practice. Otitis is not a disease but a syndrome with multiple causes that are classified into predisposing\, primary\, secondary and perpetuating. These causes are frequently combined with each other and the failure to recognize and treat all of them can cause therapeutic failures and/or frequent relapses \nLearning outcomes:\nSystematic approach to the diagnosis and treatment of predisposing\, primary\, secondary and perpetuating causes of otitis externa in dogs and cats. \n 
URL:https://esavs.org/event/dermatology-session-8/
LOCATION:Online
CATEGORIES:CCM - Dermatology
END:VEVENT
BEGIN:VEVENT
DTSTART;TZID=Europe/Brussels:20261014T190000
DTEND;TZID=Europe/Brussels:20261014T200000
DTSTAMP:20260421T000006
CREATED:20250211T194851Z
LAST-MODIFIED:20251215T073223Z
UID:990000133-1792004400-1792008000@esavs.org
SUMMARY:Emergency & Critical care\, Session 9
DESCRIPTION:Bleeding\nAcute bleeding disorders in small animals can arise from trauma\, hyperfibrinolysis\, or underlying coagulation abnormalities\, and they often present as life-threatening emergencies. The emergency clinician must be able to rapidly identify the underlying cause\, stabilize the patient\, and determine the most effective therapeutic strategy under time-critical conditions.\nIn this case-based webinar we will revisit the pathophysiology of bleeding disorders\, highlighting the differences between trauma-associated hemorrhage\, hyperfibrinolysis\, and primary or secondary coagulation abnormalities. We will discuss the diagnostic approach\, including point-of-care tests\, and how to prioritize stabilization measures such as fluid resuscitation\, transfusion strategies\, and antifibrinolytic therapy. Special attention will be given to recognizing when conventional therapy may be insufficient and when advanced interventions or surgical hemostasis are required. \nLearning outcome:\nAfter this webinar\, participants will be able to differentiate between the main causes of acute bleeding in dogs and cats\, apply a structured diagnostic and stabilization approach\, and implement targeted therapeutic strategies to control hemorrhage and improve patient outcome. \n 
URL:https://esavs.org/event/emergency-and-critical-care-session-9/
LOCATION:Online
CATEGORIES:CCM - Emergency & Critical Care
END:VEVENT
BEGIN:VEVENT
DTSTART;TZID=Europe/Brussels:20261014T190000
DTEND;TZID=Europe/Brussels:20261014T200000
DTSTAMP:20260421T000006
CREATED:20250211T194851Z
LAST-MODIFIED:20251217T094535Z
UID:990000139-1792004400-1792008000@esavs.org
SUMMARY:Feline Medicine\, Session 6
DESCRIPTION:Feline endocrinology secrets unravelled – Part 2: D. mellitus\, acromegaly\, Cushing`s syndrome\nDiagnosing diabetes mellitus is not causing a problem in most cases. It usually gets difficult if the treatment response is not exactly what we would have wished it to be. We will look into monitoring of diabetic patients and possible reasons for insufficient treatment response. The focus will be on potentially underlying endocrinopathies such as acromegaly and Cushing`s syndrome. However\, new treatment options such as the SGLT-2 inhibitors will be discussed as well.\nPreparation material:\n• Short introduction on how to read glucose curves\n• Short introduction on SGLT-2 inhibitors\nLive workshop:\nSeveral short cases are presented in a quizze format asking you to provide answers using the knowledge you gained about glucose curves and SGLT-2 inhibitors. As soon as we have solved the most important issues around these two topics a case with acromegaly and another one with Cushing`s syndrome need to be worked up more extensively by you and you need to decide on how to treat them. \n 
URL:https://esavs.org/event/feline-medicine-session-6/
LOCATION:Online
CATEGORIES:CCM - Feline Medicine
END:VEVENT
BEGIN:VEVENT
DTSTART;TZID=Europe/Brussels:20261019T190000
DTEND;TZID=Europe/Brussels:20261019T200000
DTSTAMP:20260421T000006
CREATED:20250211T194851Z
LAST-MODIFIED:20260112T064609Z
UID:990000351-1792436400-1792440000@esavs.org
SUMMARY:Avian Medicine\, Session 4
DESCRIPTION:When the urates turn green…\nInterpreting green urates – clues to systemic disease\nThis session explores via the main clinical sign which is biliverdinuria\, the variety of hepatic diaseses in companion birds. Clinical cases will guide you through diagnostics and management strategies. \nAims:\n– Recognize clinical significance of green urate and develop a differential diagnosis\n– Formulate appropriate diagnostic imaging and laboratory exams to explore hepatic diseases\n– Develop appropriate therapeutic plan to manage those diseases \nPreparation material:\n• Documentation on avian hepatic anatomy and physiology\n• Case studies featuring urate discoloration \nLive workshop:\nCase-based discussions focusing on interpreting clinical signs and laboratory data related to urate changes.
URL:https://esavs.org/event/avian-medicine-session-4/
LOCATION:Online
CATEGORIES:CCM - Exotic Pet Medicine - Avian Medicine
END:VEVENT
END:VCALENDAR