BEGIN:VCALENDAR
VERSION:2.0
PRODID:-//European School for Advanced Veterinary Studies - ECPv6.15.18//NONSGML v1.0//EN
CALSCALE:GREGORIAN
METHOD:PUBLISH
X-ORIGINAL-URL:https://esavs.org
X-WR-CALDESC:Events for European School for Advanced Veterinary Studies
REFRESH-INTERVAL;VALUE=DURATION:PT1H
X-Robots-Tag:noindex
X-PUBLISHED-TTL:PT1H
BEGIN:VTIMEZONE
TZID:Europe/Brussels
BEGIN:DAYLIGHT
TZOFFSETFROM:+0100
TZOFFSETTO:+0200
TZNAME:CEST
DTSTART:20250330T010000
END:DAYLIGHT
BEGIN:STANDARD
TZOFFSETFROM:+0200
TZOFFSETTO:+0100
TZNAME:CET
DTSTART:20251026T010000
END:STANDARD
BEGIN:DAYLIGHT
TZOFFSETFROM:+0100
TZOFFSETTO:+0200
TZNAME:CEST
DTSTART:20260329T010000
END:DAYLIGHT
BEGIN:STANDARD
TZOFFSETFROM:+0200
TZOFFSETTO:+0100
TZNAME:CET
DTSTART:20261025T010000
END:STANDARD
BEGIN:DAYLIGHT
TZOFFSETFROM:+0100
TZOFFSETTO:+0200
TZNAME:CEST
DTSTART:20270328T010000
END:DAYLIGHT
BEGIN:STANDARD
TZOFFSETFROM:+0200
TZOFFSETTO:+0100
TZNAME:CET
DTSTART:20271031T010000
END:STANDARD
END:VTIMEZONE
BEGIN:VEVENT
DTSTART;TZID=Europe/Brussels:20260701T190000
DTEND;TZID=Europe/Brussels:20260701T200000
DTSTAMP:20260420T195425
CREATED:20250211T194851Z
LAST-MODIFIED:20260112T064546Z
UID:990000350-1782932400-1782936000@esavs.org
SUMMARY:Avian Medicine\, Session 3
DESCRIPTION:Avian reproductive issues: from the parrot laying too many eggs to the chicken not laying eggs anymore\nAvian reproductive disorders – managing excess and failure\nCovering a broad spectrum of avian reproductive diseases\, this session addresses egg laying disorders in parrots and poultry. From pathophysiology to diagnostics and treatment options\, you will build clinical confidence. \nAims:\n– Identify common reproductive disorders and their clinical signs\n– Learn diagnostic strategies for reproductive dysfunction\n– Discuss management options including medical and surgical therapies \nPreparation material:\n• Documentation on avian reproductive anatomy and physiology\n• Case materials on chronic laying and cessation of egg production \nLive workshop:\nInteractive case discussions highlighting diagnostic challenges and therapeutic decision-making.
URL:https://esavs.org/event/avian-medicine-session-3/
LOCATION:Online
CATEGORIES:CCM - Exotic Pet Medicine - Avian Medicine
END:VEVENT
BEGIN:VEVENT
DTSTART;TZID=Europe/Brussels:20260707T190000
DTEND;TZID=Europe/Brussels:20260707T200000
DTSTAMP:20260420T195425
CREATED:20250211T194851Z
LAST-MODIFIED:20251215T074303Z
UID:990000337-1783450800-1783454400@esavs.org
SUMMARY:Clinical Nutrition\, Session 7
DESCRIPTION:Beyond the Bowl: Winning Back the Appetite in Challenging Cases\nManaging dogs and cats that won’t eat requires more than simply changing diets. This webinar covers medical\, behavioural\, and practical feeding strategies that help clinicians support anorexic or hyporexic patients. \nLearning outcomes:\nParticipants will learn to: \n– Distinguish between medical\, emotional\, and environmental causes of reduced appetite.\n– Apply evidence-based feeding techniques\, food presentation strategies\, and CTA reduction.\n– Use nutrition to stabilize and support anorexic patients during recovery.\n– Guide owners through safe\, compassionate home-feeding approaches.
URL:https://esavs.org/event/clinical-nutrition-session-7/
LOCATION:Online
CATEGORIES:CCM - Clinical Nutrition
END:VEVENT
BEGIN:VEVENT
DTSTART;TZID=Europe/Brussels:20260720T190000
DTEND;TZID=Europe/Brussels:20260720T210000
DTSTAMP:20260420T195425
CREATED:20250211T194851Z
LAST-MODIFIED:20260112T065120Z
UID:990000231-1784574000-1784581200@esavs.org
SUMMARY:Dermatology\, Session 6
DESCRIPTION:Canine leishmaniosis. – Dr. Manolis Saridomichelakis\nCanine leishmaniosis due to Leishmania infantum is highly endemic in South Europe but is gradually expanding northwards and imported cases are occasionally witnessed even in northern countries. The non-specific clinical presentation\, that may include one or multiple different types of skin lesions\, ocular and systemic signs\, the long list of differentials and the frequent reliance on serology as a stand-alone diagnostic test can lead to both overdiagnosis and underdiagnosis. Furthermore\, treatment monitoring and the decision for treatment discontinuation is very complicated. \nLearning outcomes:\nRational diagnosis\, treatment and monitoring of dogs with leishmaniosis based on current guidelines \n 
URL:https://esavs.org/event/dermatology-session-6/
LOCATION:Online
CATEGORIES:CCM - Dermatology
END:VEVENT
END:VCALENDAR