BEGIN:VCALENDAR
VERSION:2.0
PRODID:-//European School for Advanced Veterinary Studies - ECPv6.15.18//NONSGML v1.0//EN
CALSCALE:GREGORIAN
METHOD:PUBLISH
X-WR-CALNAME:European School for Advanced Veterinary Studies
X-ORIGINAL-URL:https://esavs.org
X-WR-CALDESC:Events for European School for Advanced Veterinary Studies
REFRESH-INTERVAL;VALUE=DURATION:PT1H
X-Robots-Tag:noindex
X-PUBLISHED-TTL:PT1H
BEGIN:VTIMEZONE
TZID:Europe/Brussels
BEGIN:DAYLIGHT
TZOFFSETFROM:+0100
TZOFFSETTO:+0200
TZNAME:CEST
DTSTART:20250330T010000
END:DAYLIGHT
BEGIN:STANDARD
TZOFFSETFROM:+0200
TZOFFSETTO:+0100
TZNAME:CET
DTSTART:20251026T010000
END:STANDARD
BEGIN:DAYLIGHT
TZOFFSETFROM:+0100
TZOFFSETTO:+0200
TZNAME:CEST
DTSTART:20260329T010000
END:DAYLIGHT
BEGIN:STANDARD
TZOFFSETFROM:+0200
TZOFFSETTO:+0100
TZNAME:CET
DTSTART:20261025T010000
END:STANDARD
BEGIN:DAYLIGHT
TZOFFSETFROM:+0100
TZOFFSETTO:+0200
TZNAME:CEST
DTSTART:20270328T010000
END:DAYLIGHT
BEGIN:STANDARD
TZOFFSETFROM:+0200
TZOFFSETTO:+0100
TZNAME:CET
DTSTART:20271031T010000
END:STANDARD
END:VTIMEZONE
BEGIN:VEVENT
DTSTART;TZID=Europe/Brussels:20260304T190000
DTEND;TZID=Europe/Brussels:20260304T200000
DTSTAMP:20260420T151316
CREATED:20250211T194851Z
LAST-MODIFIED:20250602T101724Z
UID:990000244-1772650800-1772654400@esavs.org
SUMMARY:Behavioural Medicine\, Session 5
DESCRIPTION:Decoding Pain – Behavioural Indicators Beyond the Obvious\nPain in animals often manifests behaviourally rather than physically\, especially in chronic or low-grade conditions. Subtle shifts in posture\, reactivity\, or interaction patterns may be the only indicators of discomfort\, requiring a refined diagnostic lens. \nAims:\n• To deepen understanding of pain-related behavioural expressions.\n• To improve recognition of non-obvious pain in clinical practice. \nLearning Outcomes:\nBy the end of this session\, participants will be able to:\n• Identify atypical behavioural signs of acute and chronic pain.\n• Integrate behavioural assessment into pain evaluation protocols.\n• Enhance caregiver communication regarding pain recognition and management. \n 
URL:https://esavs.org/event/behavioural-medicine-session-5/
LOCATION:Online
CATEGORIES:CCM - Behavioural Medicine
END:VEVENT
BEGIN:VEVENT
DTSTART;TZID=Europe/Brussels:20260316T190000
DTEND;TZID=Europe/Brussels:20260316T200000
DTSTAMP:20260420T151316
CREATED:20250211T194851Z
LAST-MODIFIED:20251215T072937Z
UID:990000126-1773687600-1773691200@esavs.org
SUMMARY:Emergency & Critical care\, Session 3
DESCRIPTION:Heat Stroke\nIn this case-based webinar we will revisit the pathophysiology of heatstroke and the key steps in the emergency approach\, from rapid cooling strategies to stabilization of circulation and prevention of secondary complications. We will discuss how to recognize early versus advanced clinical presentations\, how to tailor fluid therapy in the face of possible shock or coagulopathy\, and how to monitor patients for complications such as acute kidney injury\, gastrointestinal barrier failure\, or disseminated intravascular coagulation. \nLearning outcome:\nAfter this webinar\, participants will be able to apply a structured emergency approach to patients with heatstroke\, implement effective cooling and stabilization strategies\, and recognize and manage the complications that determine outcome. \n 
URL:https://esavs.org/event/emergency-and-critical-care-session-3/
LOCATION:Online
CATEGORIES:CCM - Emergency & Critical Care
END:VEVENT
BEGIN:VEVENT
DTSTART;TZID=Europe/Brussels:20260318T190000
DTEND;TZID=Europe/Brussels:20260318T200000
DTSTAMP:20260420T151316
CREATED:20250211T194851Z
LAST-MODIFIED:20251215T074610Z
UID:990000223-1773860400-1773864000@esavs.org
SUMMARY:Clinical Nutrition\, Session 3
DESCRIPTION:The Hyper Cat (Hyperthyroidism & Hypercalcemia)\nCats presenting with “hyper” problems can be diagnostically complex. This webinar walks through hyperthyroidism\, primary and secondary hypercalcemia\, concurrent disease\, and the role of nutrition in stabilizing or managing these patients. \nLearning outcomes:\nParticipants will learn to: \n– Understand current diagnostic and treatment pathways for hyperthyroid and hypercalcemic cats.\n– Interpret lab abnormalities in the context of nutritional status and energy balance.\n– Use diet to support weight regulation\, renal health\, and mineral homeostasis.\n– Communicate safe feeding strategies for compromised geriatric cats.
URL:https://esavs.org/event/clinical-nutrition-session-3/
LOCATION:Online
CATEGORIES:CCM - Clinical Nutrition
END:VEVENT
BEGIN:VEVENT
DTSTART;TZID=Europe/Brussels:20260323T190000
DTEND;TZID=Europe/Brussels:20260323T210000
DTSTAMP:20260420T151316
CREATED:20250211T194851Z
LAST-MODIFIED:20260112T064948Z
UID:990000227-1774292400-1774299600@esavs.org
SUMMARY:Dermatology\, Session 2
DESCRIPTION:Diagnosis and management of canine hypothyroidism. – Dr. Manolis Saridomichelakis\nCanine acquired hypothyroidism is a relatively common disease but\, in clinical practice\, it is overdiagnosed. The reasons are multiple and they include\, among others\, non-thyroidal illness\, drug administration\, laboratory errors\, and diagnosis based solely on hormone concentrations without consideration of the signalment\, the clinical presentation and the results of routine laboratory test results. The treatment of the disease is relatively easy\, but treatment monitoring is commonly neglected \nLearning outcomes:\nRational diagnosis and management of canine hypothyroidism \n 
URL:https://esavs.org/event/dermatology-session-2/
LOCATION:Online
CATEGORIES:CCM - Dermatology
END:VEVENT
BEGIN:VEVENT
DTSTART;TZID=Europe/Brussels:20260324T190000
DTEND;TZID=Europe/Brussels:20260324T200000
DTSTAMP:20260420T151316
CREATED:20250211T194851Z
LAST-MODIFIED:20251217T094354Z
UID:990000141-1774378800-1774382400@esavs.org
SUMMARY:Feline Medicine\, Session 2
DESCRIPTION:The vomiting cat\nThere are so many differentials. How to work through them and find the diagnosis? Based on the very first session we will find a problem oriented structured approach to this. We will learn how to read laboratory results and ultrasound findings with a focus. The better we have done our homework the more information we will get from our diagnostic procedures.\nAims:\n– Structured approach to the vomiting cat\n– Using diagnostic tools wisely and with a focus\n– What to read from blood\, faeces and ultrasound\nPreparation material:\n• Introductory video on how to diagnotically proceed with medicine cases.\n• Case material to prepare at home for further discussion during the live workshop\nLive workshop:\nThe cases that have been prepared at home are being discussed. We are doing the further work-up together until the final diagnosis is reached. Includes an ultrasound quizze on the pancreas\, gall bladder and intestines. \n 
URL:https://esavs.org/event/feline-medicine-session-2/
LOCATION:Online
CATEGORIES:CCM - Feline Medicine
END:VEVENT
BEGIN:VEVENT
DTSTART;TZID=Europe/Brussels:20260331T190000
DTEND;TZID=Europe/Brussels:20260331T200000
DTSTAMP:20260420T151316
CREATED:20250211T194851Z
LAST-MODIFIED:20251215T073013Z
UID:990000127-1774983600-1774987200@esavs.org
SUMMARY:Emergency & Critical care\, Session 4
DESCRIPTION:Septic Peritonitis\nSeptic peritonitis remains one of the most critical abdominal emergencies in small animal practice\, requiring rapid recognition and decisive management to improve patient outcome. The emergency clinician is challenged not only by the severity of systemic illness but also by the need to balance stabilization with the urgency of surgical intervention.\nIn this case-based webinar we will review how to recognize key clinical and diagnostic indicators early and which diagnostic procedures help us guide decision-making. We will discuss the initial stabilization of these patients\, including fluid resuscitation\, antibiotic selection\, analgesia\, and monitoring strategies. \nLearning outcome\nAfter this webinar\, participants will be able to recognize septic peritonitis in dogs and cats\, initiate appropriate stabilization measures\, and make informed decisions regarding surgical and postoperative management to optimize patient survival. \n 
URL:https://esavs.org/event/emergency-and-critical-care-session-4/
LOCATION:Online
CATEGORIES:CCM - Emergency & Critical Care
END:VEVENT
END:VCALENDAR