BEGIN:VCALENDAR
VERSION:2.0
PRODID:-//European School for Advanced Veterinary Studies - ECPv6.15.18//NONSGML v1.0//EN
CALSCALE:GREGORIAN
METHOD:PUBLISH
X-WR-CALNAME:European School for Advanced Veterinary Studies
X-ORIGINAL-URL:https://esavs.org
X-WR-CALDESC:Events for European School for Advanced Veterinary Studies
REFRESH-INTERVAL;VALUE=DURATION:PT1H
X-Robots-Tag:noindex
X-PUBLISHED-TTL:PT1H
BEGIN:VTIMEZONE
TZID:Europe/Brussels
BEGIN:DAYLIGHT
TZOFFSETFROM:+0100
TZOFFSETTO:+0200
TZNAME:CEST
DTSTART:20250330T010000
END:DAYLIGHT
BEGIN:STANDARD
TZOFFSETFROM:+0200
TZOFFSETTO:+0100
TZNAME:CET
DTSTART:20251026T010000
END:STANDARD
BEGIN:DAYLIGHT
TZOFFSETFROM:+0100
TZOFFSETTO:+0200
TZNAME:CEST
DTSTART:20260329T010000
END:DAYLIGHT
BEGIN:STANDARD
TZOFFSETFROM:+0200
TZOFFSETTO:+0100
TZNAME:CET
DTSTART:20261025T010000
END:STANDARD
BEGIN:DAYLIGHT
TZOFFSETFROM:+0100
TZOFFSETTO:+0200
TZNAME:CEST
DTSTART:20270328T010000
END:DAYLIGHT
BEGIN:STANDARD
TZOFFSETFROM:+0200
TZOFFSETTO:+0100
TZNAME:CET
DTSTART:20271031T010000
END:STANDARD
END:VTIMEZONE
BEGIN:VEVENT
DTSTART;TZID=Europe/Brussels:20260303T190000
DTEND;TZID=Europe/Brussels:20260303T200000
DTSTAMP:20260420T165610
CREATED:20250503T161539Z
LAST-MODIFIED:20260306T110640Z
UID:990000250-1772564400-1772568000@esavs.org
SUMMARY:Clinical Nutrition Webinar
DESCRIPTION:The Missing Piece: Nutritional Interventions That Solved the Case\nLecturers: Dr. Irene Bruckner ; Dr. Stefanie Handl\nOverview:\nThis webinar showcases real clinical cases in which nutritional strategies were the decisive diagnostic or therapeutic step. Participants will explore how diet interacts with physiology\, pathology\, and treatment response\, and learn to recognize scenarios in which nutrition is not an adjunct—but the key to resolution.\nLearning Outcomes\nBy the end of this webinar\, participants will be able to:\nIdentify clinical presentations where nutrition is often the missing diagnostic clue.\nIntegrate targeted nutritional interventions into case management plans.\nRecognize early when a nutritional solution may outperform pharmacological or procedural interventions.\nCommunicate nutritional rationale effectively to pet owners.
URL:https://esavs.org/event/clinical-nutrition-webinar/
LOCATION:Online
CATEGORIES:Free webinar - Clinical Nutrition
ATTACH;FMTTYPE=image/webp:https://esavs.org/wp-content/uploads/2025/05/ccm_nutrition_c_masters.webp
END:VEVENT
END:VCALENDAR