BEGIN:VCALENDAR
VERSION:2.0
PRODID:-//European School for Advanced Veterinary Studies - ECPv6.15.18//NONSGML v1.0//EN
CALSCALE:GREGORIAN
METHOD:PUBLISH
X-ORIGINAL-URL:https://esavs.org
X-WR-CALDESC:Events for European School for Advanced Veterinary Studies
REFRESH-INTERVAL;VALUE=DURATION:PT1H
X-Robots-Tag:noindex
X-PUBLISHED-TTL:PT1H
BEGIN:VTIMEZONE
TZID:Europe/Brussels
BEGIN:DAYLIGHT
TZOFFSETFROM:+0100
TZOFFSETTO:+0200
TZNAME:CEST
DTSTART:20250330T010000
END:DAYLIGHT
BEGIN:STANDARD
TZOFFSETFROM:+0200
TZOFFSETTO:+0100
TZNAME:CET
DTSTART:20251026T010000
END:STANDARD
BEGIN:DAYLIGHT
TZOFFSETFROM:+0100
TZOFFSETTO:+0200
TZNAME:CEST
DTSTART:20260329T010000
END:DAYLIGHT
BEGIN:STANDARD
TZOFFSETFROM:+0200
TZOFFSETTO:+0100
TZNAME:CET
DTSTART:20261025T010000
END:STANDARD
BEGIN:DAYLIGHT
TZOFFSETFROM:+0100
TZOFFSETTO:+0200
TZNAME:CEST
DTSTART:20270328T010000
END:DAYLIGHT
BEGIN:STANDARD
TZOFFSETFROM:+0200
TZOFFSETTO:+0100
TZNAME:CET
DTSTART:20271031T010000
END:STANDARD
END:VTIMEZONE
BEGIN:VEVENT
DTSTART;TZID=Europe/Brussels:20261019T190000
DTEND;TZID=Europe/Brussels:20261019T200000
DTSTAMP:20260420T213246
CREATED:20250211T194851Z
LAST-MODIFIED:20260112T064609Z
UID:990000351-1792436400-1792440000@esavs.org
SUMMARY:Avian Medicine\, Session 4
DESCRIPTION:When the urates turn green…\nInterpreting green urates – clues to systemic disease\nThis session explores via the main clinical sign which is biliverdinuria\, the variety of hepatic diaseses in companion birds. Clinical cases will guide you through diagnostics and management strategies. \nAims:\n– Recognize clinical significance of green urate and develop a differential diagnosis\n– Formulate appropriate diagnostic imaging and laboratory exams to explore hepatic diseases\n– Develop appropriate therapeutic plan to manage those diseases \nPreparation material:\n• Documentation on avian hepatic anatomy and physiology\n• Case studies featuring urate discoloration \nLive workshop:\nCase-based discussions focusing on interpreting clinical signs and laboratory data related to urate changes.
URL:https://esavs.org/event/avian-medicine-session-4/
LOCATION:Online
CATEGORIES:CCM - Exotic Pet Medicine - Avian Medicine
END:VEVENT
END:VCALENDAR