BEGIN:VCALENDAR
VERSION:2.0
PRODID:-//European School for Advanced Veterinary Studies - ECPv6.15.18//NONSGML v1.0//EN
CALSCALE:GREGORIAN
METHOD:PUBLISH
X-ORIGINAL-URL:https://esavs.org
X-WR-CALDESC:Events for European School for Advanced Veterinary Studies
REFRESH-INTERVAL;VALUE=DURATION:PT1H
X-Robots-Tag:noindex
X-PUBLISHED-TTL:PT1H
BEGIN:VTIMEZONE
TZID:Europe/Brussels
BEGIN:DAYLIGHT
TZOFFSETFROM:+0100
TZOFFSETTO:+0200
TZNAME:CEST
DTSTART:20240331T010000
END:DAYLIGHT
BEGIN:STANDARD
TZOFFSETFROM:+0200
TZOFFSETTO:+0100
TZNAME:CET
DTSTART:20241027T010000
END:STANDARD
BEGIN:DAYLIGHT
TZOFFSETFROM:+0100
TZOFFSETTO:+0200
TZNAME:CEST
DTSTART:20250330T010000
END:DAYLIGHT
BEGIN:STANDARD
TZOFFSETFROM:+0200
TZOFFSETTO:+0100
TZNAME:CET
DTSTART:20251026T010000
END:STANDARD
BEGIN:DAYLIGHT
TZOFFSETFROM:+0100
TZOFFSETTO:+0200
TZNAME:CEST
DTSTART:20260329T010000
END:DAYLIGHT
BEGIN:STANDARD
TZOFFSETFROM:+0200
TZOFFSETTO:+0100
TZNAME:CET
DTSTART:20261025T010000
END:STANDARD
END:VTIMEZONE
BEGIN:VEVENT
DTSTART;TZID=Europe/Brussels:20250508T190000
DTEND;TZID=Europe/Brussels:20250508T200000
DTSTAMP:20260420T142440
CREATED:20250211T194851Z
LAST-MODIFIED:20250501T190641Z
UID:990000145-1746730800-1746734400@esavs.org
SUMMARY:Neurology\, Session 4
DESCRIPTION:Cases Cases Cases – Let’s Dive In!\nIn the fourth session\, we will apply the knowledge gained from previous sessions to real clinical cases. You will have the opportunity to work through a series of cases\, using neuroanatomical localization and the VETAMIN D framework to develop differential diagnoses and refine your diagnostic approach. This session will enhance your ability to integrate theoretical knowledge into practical scenarios\, strengthening your clinical skills in neurology. \nLearning Outcomes: \nRefine diagnostic skills by applying neuroanatomical localization and the VETAMIN D framework to real clinical cases and formulate plans for further diagnostics.   \n 
URL:https://esavs.org/event/neurology-session-4/
LOCATION:Online
CATEGORIES:CCM - Neurology
END:VEVENT
BEGIN:VEVENT
DTSTART;TZID=Europe/Brussels:20250501T190000
DTEND;TZID=Europe/Brussels:20250501T200000
DTSTAMP:20260420T142440
CREATED:20250211T194851Z
LAST-MODIFIED:20250501T190553Z
UID:990000144-1746126000-1746129600@esavs.org
SUMMARY:Neurology\, Session 3
DESCRIPTION:VETAMIN D – A systematic approach to establishing differential diagnoses in Neurology\nIn the third session\, we will focus on VETAMIN D\, a systematic approach to building differential diagnoses in veterinary neurology. Using the VETAMIN D mnemonic\, we will explore how to organize and prioritize potential causes of neurological disorders based on clinical signs and neuroanatomical localization. Through case examples and interactive discussions\, you will learn how to apply this framework to efficiently develop a comprehensive list of differential diagnoses\, ensuring a thorough diagnostic process for neurological patients. \nLearning Outcomes: \nUnderstand the VETAMIN D framework: Participants will be able to explain the VETAMIN D mnemonic and how it provides a structured approach to formulating differential diagnoses in veterinary neurology.\nApply the VETAMIN D approach to neurological cases: Participants will be able to use the VETAMIN D system to systematically narrow down differential diagnoses based on clinical presentation and neuroanatomical localization.\nDevelop a comprehensive differential diagnosis list: Participants will be able to create a well-organized and prioritized list of differential diagnoses\, ensuring a thorough and methodical diagnostic workup for neurological patients.   \n 
URL:https://esavs.org/event/neurology-session-3/
LOCATION:Online
CATEGORIES:CCM - Neurology
END:VEVENT
BEGIN:VEVENT
DTSTART;TZID=Europe/Brussels:20250424T190000
DTEND;TZID=Europe/Brussels:20250424T200000
DTSTAMP:20260420T142440
CREATED:20250211T194851Z
LAST-MODIFIED:20250501T190456Z
UID:990000143-1745521200-1745524800@esavs.org
SUMMARY:Neurology\, Session 2
DESCRIPTION:The neuroanatomical lesion localization – Unlocking the key to a neurological diagnosis\nThis session focuses on mastering neuroanatomical lesion localization\, the second step after the neurological examination and essential for formulating a targeted list of differential diagnoses. Based on the findings of the neurological examination\, different systematic approaches are presented to help you navigate through the complexities of the nervous system and accurately identify the neuroanatomical location of the lesion. \nLearning Outcomes:\nUnderstand the principles of neuroanatomical lesion localization: Participants will be able to describe the fundamental principles of neuroanatomical lesion localization and its relevance to clinical neurology.\nIntegrate neurological examination findings with neuroanatomy: Participants will be able to correlate clinical signs observed during a neurological examination with specific regions of the nervous system.\nApply neuroanatomical lesion localization to diagnostic decision-making: Participants will be able to use neuroanatomical localization to prioritize differential diagnoses and guide further diagnostic tests and treatment plans.   \n 
URL:https://esavs.org/event/neurology-session-2/
LOCATION:Online
CATEGORIES:CCM - Neurology
END:VEVENT
BEGIN:VEVENT
DTSTART;TZID=Europe/Brussels:20250417T190000
DTEND;TZID=Europe/Brussels:20250417T200000
DTSTAMP:20260420T142440
CREATED:20250211T194851Z
LAST-MODIFIED:20250501T190422Z
UID:990000142-1744916400-1744920000@esavs.org
SUMMARY:Neurology\, Session 1
DESCRIPTION:The neurological examination – step by step\nThis introductory session provides an in-depth overview of the neurological examination\, the cornerstone of evaluating a neurological patient. Through the use of various video examples\, we will explore the systematic approach to conducting a neurological examination\, highlighting potential challenges and common pitfalls. Abnormal findings will be demonstrated to help navigate the complexities of neurological signs and their interpretation. \nLearning outcomes: \nUnderstand the purpose of the neurological examination: Participants will be able to explain the importance of the neurological examination in differentiating neurological lesions from orthopedic diseases\, localizing lesions and guiding further diagnostic and therapeutic approaches.\nPerform a systematic neurological examination: Participants will be able to conduct a structured and comprehensive neurological examination in dogs and cats\, including the evaluation of cranial nerves\, reflexes\, gait\, and postural reactions.\nInterpret findings to localize neurological lesions: Participants will be able to analyze results of the neurological examination to identify abnormal findings and have a general idea how to localize lesions within the nervous system accurately.   \n 
URL:https://esavs.org/event/neurology-session-1/
LOCATION:Online
CATEGORIES:CCM - Neurology
END:VEVENT
END:VCALENDAR