BEGIN:VCALENDAR
VERSION:2.0
PRODID:-//European School for Advanced Veterinary Studies - ECPv6.15.18//NONSGML v1.0//EN
CALSCALE:GREGORIAN
METHOD:PUBLISH
X-ORIGINAL-URL:https://esavs.org
X-WR-CALDESC:Events for European School for Advanced Veterinary Studies
REFRESH-INTERVAL;VALUE=DURATION:PT1H
X-Robots-Tag:noindex
X-PUBLISHED-TTL:PT1H
BEGIN:VTIMEZONE
TZID:Europe/Brussels
BEGIN:DAYLIGHT
TZOFFSETFROM:+0100
TZOFFSETTO:+0200
TZNAME:CEST
DTSTART:20250330T010000
END:DAYLIGHT
BEGIN:STANDARD
TZOFFSETFROM:+0200
TZOFFSETTO:+0100
TZNAME:CET
DTSTART:20251026T010000
END:STANDARD
BEGIN:DAYLIGHT
TZOFFSETFROM:+0100
TZOFFSETTO:+0200
TZNAME:CEST
DTSTART:20260329T010000
END:DAYLIGHT
BEGIN:STANDARD
TZOFFSETFROM:+0200
TZOFFSETTO:+0100
TZNAME:CET
DTSTART:20261025T010000
END:STANDARD
BEGIN:DAYLIGHT
TZOFFSETFROM:+0100
TZOFFSETTO:+0200
TZNAME:CEST
DTSTART:20270328T010000
END:DAYLIGHT
BEGIN:STANDARD
TZOFFSETFROM:+0200
TZOFFSETTO:+0100
TZNAME:CET
DTSTART:20271031T010000
END:STANDARD
END:VTIMEZONE
BEGIN:VEVENT
DTSTART;TZID=Europe/Brussels:20260907T190000
DTEND;TZID=Europe/Brussels:20260907T200000
DTSTAMP:20260420T215743
CREATED:20250211T194851Z
LAST-MODIFIED:20251215T073159Z
UID:990000130-1788807600-1788811200@esavs.org
SUMMARY:Emergency & Critical care\, Session 8
DESCRIPTION:Fluid Therapy in Anuric/Polyuric Patients\nManaging fluid therapy in anuric or oliguric patients poses a unique challenge. While fluids are often the cornerstone of stabilization\, inappropriate administration in these patients can quickly worsen their condition and lead to life-threatening complications. The emergency clinician must therefore balance the need for circulatory support with the risk of fluid overload.\nIn this case-based webinar we will discuss how to assess volume status\, how to distinguish between pre-renal\, renal\, and post-renal causes\, and how to guide fluid therapy accordingly. Special emphasis will be placed on setting appropriate fluid rates\, recognizing early signs of fluid overload\, and knowing when to move beyond fluid therapy to advanced interventions such as diuretics or renal replacement therapy.\nCase examples will highlight the decision-making process and the practical challenges clinicians face when tailoring therapy to these fragile patients. \nLearning outcome:\nAfter this webinar\, participants will be able to recognize anuric and oliguric states in dogs and cats\, assess the underlying cause\, and implement safe\, individualized fluid therapy strategies while minimizing the risk of fluid overload and secondary complications. \n 
URL:https://esavs.org/event/emergency-and-critical-care-session-8/
LOCATION:Online
CATEGORIES:CCM - Emergency & Critical Care
END:VEVENT
END:VCALENDAR