BEGIN:VCALENDAR
VERSION:2.0
PRODID:-//European School for Advanced Veterinary Studies - ECPv6.15.18//NONSGML v1.0//EN
CALSCALE:GREGORIAN
METHOD:PUBLISH
X-ORIGINAL-URL:https://esavs.org
X-WR-CALDESC:Events for European School for Advanced Veterinary Studies
REFRESH-INTERVAL;VALUE=DURATION:PT1H
X-Robots-Tag:noindex
X-PUBLISHED-TTL:PT1H
BEGIN:VTIMEZONE
TZID:Europe/Brussels
BEGIN:DAYLIGHT
TZOFFSETFROM:+0100
TZOFFSETTO:+0200
TZNAME:CEST
DTSTART:20250330T010000
END:DAYLIGHT
BEGIN:STANDARD
TZOFFSETFROM:+0200
TZOFFSETTO:+0100
TZNAME:CET
DTSTART:20251026T010000
END:STANDARD
BEGIN:DAYLIGHT
TZOFFSETFROM:+0100
TZOFFSETTO:+0200
TZNAME:CEST
DTSTART:20260329T010000
END:DAYLIGHT
BEGIN:STANDARD
TZOFFSETFROM:+0200
TZOFFSETTO:+0100
TZNAME:CET
DTSTART:20261025T010000
END:STANDARD
BEGIN:DAYLIGHT
TZOFFSETFROM:+0100
TZOFFSETTO:+0200
TZNAME:CEST
DTSTART:20270328T010000
END:DAYLIGHT
BEGIN:STANDARD
TZOFFSETFROM:+0200
TZOFFSETTO:+0100
TZNAME:CET
DTSTART:20271031T010000
END:STANDARD
END:VTIMEZONE
BEGIN:VEVENT
DTSTART;TZID=Europe/Brussels:20260813T190000
DTEND;TZID=Europe/Brussels:20260813T200000
DTSTAMP:20260420T190356
CREATED:20250211T194851Z
LAST-MODIFIED:20251215T073135Z
UID:990000131-1786647600-1786651200@esavs.org
SUMMARY:Emergency & Critical care\, Session 7
DESCRIPTION:Stranguria\nStranguria is a common but potentially life-threatening emergency presentation in cats. The emergency clinician must quickly determine whether the patient is obstructed\, stabilize the patient appropriately\, and decide on the best method of relieving the obstruction while managing pain and stress.\nIn this case-based webinar we will discuss emergency stabilization\, including fluid therapy\, analgesia\, and correction of electrolyte and acid-base imbalances\, before addressing safe techniques for urinary catheterization. Special attention will be given to managing severe hyperkalemia\, minimizing the risk of iatrogenic trauma during catheterization\, and preventing early recurrence after relief of obstruction. \nLearning outcome:\nAfter this webinar\, participants will be able to assess and stabilize cats presenting with stranguria\, differentiate between obstructive and non-obstructive causes\, and apply safe and effective techniques to relieve obstruction and prevent complications.
URL:https://esavs.org/event/emergency-and-critical-care-session-7/
LOCATION:Online
CATEGORIES:CCM - Emergency & Critical Care
END:VEVENT
END:VCALENDAR