BEGIN:VCALENDAR
VERSION:2.0
PRODID:-//European School for Advanced Veterinary Studies - ECPv6.15.18//NONSGML v1.0//EN
CALSCALE:GREGORIAN
METHOD:PUBLISH
X-WR-CALNAME:European School for Advanced Veterinary Studies
X-ORIGINAL-URL:https://esavs.org
X-WR-CALDESC:Events for European School for Advanced Veterinary Studies
REFRESH-INTERVAL;VALUE=DURATION:PT1H
X-Robots-Tag:noindex
X-PUBLISHED-TTL:PT1H
BEGIN:VTIMEZONE
TZID:Europe/Brussels
BEGIN:DAYLIGHT
TZOFFSETFROM:+0100
TZOFFSETTO:+0200
TZNAME:CEST
DTSTART:20250330T010000
END:DAYLIGHT
BEGIN:STANDARD
TZOFFSETFROM:+0200
TZOFFSETTO:+0100
TZNAME:CET
DTSTART:20251026T010000
END:STANDARD
BEGIN:DAYLIGHT
TZOFFSETFROM:+0100
TZOFFSETTO:+0200
TZNAME:CEST
DTSTART:20260329T010000
END:DAYLIGHT
BEGIN:STANDARD
TZOFFSETFROM:+0200
TZOFFSETTO:+0100
TZNAME:CET
DTSTART:20261025T010000
END:STANDARD
BEGIN:DAYLIGHT
TZOFFSETFROM:+0100
TZOFFSETTO:+0200
TZNAME:CEST
DTSTART:20270328T010000
END:DAYLIGHT
BEGIN:STANDARD
TZOFFSETFROM:+0200
TZOFFSETTO:+0100
TZNAME:CET
DTSTART:20271031T010000
END:STANDARD
END:VTIMEZONE
BEGIN:VEVENT
DTSTART;TZID=Europe/Brussels:20260616T190000
DTEND;TZID=Europe/Brussels:20260616T200000
DTSTAMP:20260420T155316
CREATED:20250211T194851Z
LAST-MODIFIED:20251215T073111Z
UID:990000129-1781636400-1781640000@esavs.org
SUMMARY:Emergency & Critical care\, Session 6
DESCRIPTION:Head Trauma\nIn this case-based webinar we will revisit the pathophysiology of head trauma and outline a structured approach to the neurologic patient in the emergency setting. We will discuss how to perform an effective initial assessment\, including neurological examination and monitoring parameters\, and which diagnostic tools are most useful in the acute phase. Special focus will be given to evidence-based stabilization strategies such as optimizing oxygenation\, ventilation\, fluid therapy\, and analgesia\, as well as the role of hyperosmolar agents in managing elevated intracranial pressure.\nWe will also address common pitfalls in the management of head trauma and review decision-making regarding advanced imaging\, surgical intervention\, and prognostication. \nLearning outcome:\nAfter this webinar\, participants will be able to recognize and assess head trauma in dogs and cats\, implement appropriate stabilization and monitoring strategies\, and apply targeted interventions to minimize secondary brain injury and improve outcomes. \n 
URL:https://esavs.org/event/emergency-and-critical-care-session-6/
LOCATION:Online
CATEGORIES:CCM - Emergency & Critical Care
END:VEVENT
END:VCALENDAR