BEGIN:VCALENDAR
VERSION:2.0
PRODID:-//European School for Advanced Veterinary Studies - ECPv6.15.18//NONSGML v1.0//EN
CALSCALE:GREGORIAN
METHOD:PUBLISH
X-ORIGINAL-URL:https://esavs.org
X-WR-CALDESC:Events for European School for Advanced Veterinary Studies
REFRESH-INTERVAL;VALUE=DURATION:PT1H
X-Robots-Tag:noindex
X-PUBLISHED-TTL:PT1H
BEGIN:VTIMEZONE
TZID:Europe/Brussels
BEGIN:DAYLIGHT
TZOFFSETFROM:+0100
TZOFFSETTO:+0200
TZNAME:CEST
DTSTART:20250330T010000
END:DAYLIGHT
BEGIN:STANDARD
TZOFFSETFROM:+0200
TZOFFSETTO:+0100
TZNAME:CET
DTSTART:20251026T010000
END:STANDARD
BEGIN:DAYLIGHT
TZOFFSETFROM:+0100
TZOFFSETTO:+0200
TZNAME:CEST
DTSTART:20260329T010000
END:DAYLIGHT
BEGIN:STANDARD
TZOFFSETFROM:+0200
TZOFFSETTO:+0100
TZNAME:CET
DTSTART:20261025T010000
END:STANDARD
BEGIN:DAYLIGHT
TZOFFSETFROM:+0100
TZOFFSETTO:+0200
TZNAME:CEST
DTSTART:20270328T010000
END:DAYLIGHT
BEGIN:STANDARD
TZOFFSETFROM:+0200
TZOFFSETTO:+0100
TZNAME:CET
DTSTART:20271031T010000
END:STANDARD
END:VTIMEZONE
BEGIN:VEVENT
DTSTART;TZID=Europe/Brussels:20260318T190000
DTEND;TZID=Europe/Brussels:20260318T200000
DTSTAMP:20260420T151834
CREATED:20250211T194851Z
LAST-MODIFIED:20251215T074610Z
UID:990000223-1773860400-1773864000@esavs.org
SUMMARY:Clinical Nutrition\, Session 3
DESCRIPTION:The Hyper Cat (Hyperthyroidism & Hypercalcemia)\nCats presenting with “hyper” problems can be diagnostically complex. This webinar walks through hyperthyroidism\, primary and secondary hypercalcemia\, concurrent disease\, and the role of nutrition in stabilizing or managing these patients. \nLearning outcomes:\nParticipants will learn to: \n– Understand current diagnostic and treatment pathways for hyperthyroid and hypercalcemic cats.\n– Interpret lab abnormalities in the context of nutritional status and energy balance.\n– Use diet to support weight regulation\, renal health\, and mineral homeostasis.\n– Communicate safe feeding strategies for compromised geriatric cats.
URL:https://esavs.org/event/clinical-nutrition-session-3/
LOCATION:Online
CATEGORIES:CCM - Clinical Nutrition
END:VEVENT
END:VCALENDAR