BEGIN:VCALENDAR
VERSION:2.0
PRODID:-//European School for Advanced Veterinary Studies - ECPv6.15.18//NONSGML v1.0//EN
CALSCALE:GREGORIAN
METHOD:PUBLISH
X-WR-CALNAME:European School for Advanced Veterinary Studies
X-ORIGINAL-URL:https://esavs.org
X-WR-CALDESC:Events for European School for Advanced Veterinary Studies
REFRESH-INTERVAL;VALUE=DURATION:PT1H
X-Robots-Tag:noindex
X-PUBLISHED-TTL:PT1H
BEGIN:VTIMEZONE
TZID:Europe/Brussels
BEGIN:DAYLIGHT
TZOFFSETFROM:+0100
TZOFFSETTO:+0200
TZNAME:CEST
DTSTART:20250330T010000
END:DAYLIGHT
BEGIN:STANDARD
TZOFFSETFROM:+0200
TZOFFSETTO:+0100
TZNAME:CET
DTSTART:20251026T010000
END:STANDARD
BEGIN:DAYLIGHT
TZOFFSETFROM:+0100
TZOFFSETTO:+0200
TZNAME:CEST
DTSTART:20260329T010000
END:DAYLIGHT
BEGIN:STANDARD
TZOFFSETFROM:+0200
TZOFFSETTO:+0100
TZNAME:CET
DTSTART:20261025T010000
END:STANDARD
BEGIN:DAYLIGHT
TZOFFSETFROM:+0100
TZOFFSETTO:+0200
TZNAME:CEST
DTSTART:20270328T010000
END:DAYLIGHT
BEGIN:STANDARD
TZOFFSETFROM:+0200
TZOFFSETTO:+0100
TZNAME:CET
DTSTART:20271031T010000
END:STANDARD
END:VTIMEZONE
BEGIN:VEVENT
DTSTART;TZID=Europe/Brussels:20260224T190000
DTEND;TZID=Europe/Brussels:20260224T200000
DTSTAMP:20260420T151607
CREATED:20250211T194851Z
LAST-MODIFIED:20251215T074058Z
UID:990000222-1771959600-1771963200@esavs.org
SUMMARY:Clinical Nutrition\, Session 2
DESCRIPTION:Skin Disease II — The Non-Itchies (Colour Changes & Other Mysteries)\nNot all dermatology cases itch. This webinar explores diagnostic challenges such as pigment changes\, scaling\, haircoat abnormalities\, and metabolic or nutritional causes of non-pruritic skin disease.\nLearning outcomes:\nParticipants will be able to: \n– Build a structured differential list for non-pruritic dermatological presentations.\n– Recognize nutritional\, metabolic\, or endocrine patterns behind colour and texture changes.\n– Select appropriate diagnostics\, including when nutrition trials are indicated.\n– Devise tailored management plans based on underlying pathology.
URL:https://esavs.org/event/clinical-nutrition-session-2/
LOCATION:Online
CATEGORIES:CCM - Clinical Nutrition
END:VEVENT
END:VCALENDAR