BEGIN:VCALENDAR
VERSION:2.0
PRODID:-//European School for Advanced Veterinary Studies - ECPv6.15.18//NONSGML v1.0//EN
CALSCALE:GREGORIAN
METHOD:PUBLISH
X-ORIGINAL-URL:https://esavs.org
X-WR-CALDESC:Events for European School for Advanced Veterinary Studies
REFRESH-INTERVAL;VALUE=DURATION:PT1H
X-Robots-Tag:noindex
X-PUBLISHED-TTL:PT1H
BEGIN:VTIMEZONE
TZID:Europe/Brussels
BEGIN:DAYLIGHT
TZOFFSETFROM:+0100
TZOFFSETTO:+0200
TZNAME:CEST
DTSTART:20250330T010000
END:DAYLIGHT
BEGIN:STANDARD
TZOFFSETFROM:+0200
TZOFFSETTO:+0100
TZNAME:CET
DTSTART:20251026T010000
END:STANDARD
BEGIN:DAYLIGHT
TZOFFSETFROM:+0100
TZOFFSETTO:+0200
TZNAME:CEST
DTSTART:20260329T010000
END:DAYLIGHT
BEGIN:STANDARD
TZOFFSETFROM:+0200
TZOFFSETTO:+0100
TZNAME:CET
DTSTART:20261025T010000
END:STANDARD
BEGIN:DAYLIGHT
TZOFFSETFROM:+0100
TZOFFSETTO:+0200
TZNAME:CEST
DTSTART:20270328T010000
END:DAYLIGHT
BEGIN:STANDARD
TZOFFSETFROM:+0200
TZOFFSETTO:+0100
TZNAME:CET
DTSTART:20271031T010000
END:STANDARD
END:VTIMEZONE
BEGIN:VEVENT
DTSTART;VALUE=DATE:20260323
DTEND;VALUE=DATE:20260328
DTSTAMP:20260421T034018
CREATED:20240612T092228Z
LAST-MODIFIED:20260327T104609Z
UID:990000268-1774224000-1774655999@esavs.org
SUMMARY:Dentistry III
DESCRIPTION:
URL:https://esavs.org/event/dentistry-3-march-2026/
LOCATION:Duleek\, Ireland\, iM3 Dental Limited - Unit 29\, Duleek Business Park\, Co.\, Meath\, A92 N72W\, Ireland
CATEGORIES:CASVM-MASVM,Dentistry
ATTACH;FMTTYPE=image/jpeg:https://esavs.org/wp-content/uploads/2024/06/esavs_dentistry-1-1-1.jpg
END:VEVENT
BEGIN:VEVENT
DTSTART;VALUE=DATE:20260323
DTEND;VALUE=DATE:20260328
DTSTAMP:20260421T034018
CREATED:20250320T135102Z
LAST-MODIFIED:20260327T104757Z
UID:990000310-1774224000-1774655999@esavs.org
SUMMARY:Feline Internal Medicine II
DESCRIPTION:
URL:https://esavs.org/event/feline-internal-medicine-2-2026/
LOCATION:Online
CATEGORIES:CASVM-MASVM,Feline Medicine
ATTACH;FMTTYPE=image/webp:https://esavs.org/wp-content/uploads/2025/03/esavs_feline_im_1.webp
END:VEVENT
BEGIN:VEVENT
DTSTART;VALUE=DATE:20260327
DTEND;VALUE=DATE:20260401
DTSTAMP:20260421T034018
CREATED:20240612T092228Z
LAST-MODIFIED:20260331T140444Z
UID:990000285-1774569600-1775001599@esavs.org
SUMMARY:Oncology II
DESCRIPTION:
URL:https://esavs.org/event/oncology-2-march-2026/
LOCATION:Palma\, Spain\, Calle Ramón y Cajal\, 12\, Palma de Mallorca\, 07011\, Spain
CATEGORIES:CASVM-MASVM,Oncology
ATTACH;FMTTYPE=image/webp:https://esavs.org/wp-content/uploads/2024/06/esavs_oncology_2.webp
END:VEVENT
BEGIN:VEVENT
DTSTART;VALUE=DATE:20260401
DTEND;VALUE=DATE:20260406
DTSTAMP:20260421T034018
CREATED:20250423T134950Z
LAST-MODIFIED:20260407T125404Z
UID:990000307-1775001600-1775433599@esavs.org
SUMMARY:Cardiology I
DESCRIPTION:
URL:https://esavs.org/event/cardiology-1-march-2026/
LOCATION:Palma\, Spain\, Calle Ramón y Cajal\, 12\, Palma de Mallorca\, 07011\, Spain
CATEGORIES:CASVM-MASVM,Cardiology
ATTACH;FMTTYPE=image/webp:https://esavs.org/wp-content/uploads/2025/04/esavs_cardiology_14.webp
END:VEVENT
BEGIN:VEVENT
DTSTART;VALUE=DATE:20260413
DTEND;VALUE=DATE:20260418
DTSTAMP:20260421T034018
CREATED:20240612T092228Z
LAST-MODIFIED:20260413T111941Z
UID:990000286-1776038400-1776470399@esavs.org
SUMMARY:Internal Medicine: Endoscopy Course Using Natural Orifices
DESCRIPTION:
URL:https://esavs.org/event/internal-medicine-endoscopy-course-using-natural-orifices-april-2026/
LOCATION:Rostock\, Germany\, Tierklinik Rostock\, Thierfelderstraße 19\,\, Rostock\, 18059\, Germany
CATEGORIES:CASVM-MASVM,Internal Medicine,Endoscopy
ATTACH;FMTTYPE=image/webp:https://esavs.org/wp-content/uploads/2024/06/esavs_endoscopy_1.webp
END:VEVENT
BEGIN:VEVENT
DTSTART;TZID=Europe/Brussels:20260418T000000
DTEND;TZID=Europe/Brussels:20260422T235900
DTSTAMP:20260421T034018
CREATED:20240612T092228Z
LAST-MODIFIED:20260331T060852Z
UID:990000291-1776470400-1776902340@esavs.org
SUMMARY:Dentistry I
DESCRIPTION:
URL:https://esavs.org/event/dentistry-1-april-2026/
LOCATION:Duleek\, Ireland\, iM3 Dental Limited - Unit 29\, Duleek Business Park\, Co.\, Meath\, A92 N72W\, Ireland
CATEGORIES:CASVM-MASVM,Dentistry
ATTACH;FMTTYPE=image/jpeg:https://esavs.org/wp-content/uploads/2024/06/esavs_dentistry-1-1-1.jpg
END:VEVENT
BEGIN:VEVENT
DTSTART;VALUE=DATE:20260420
DTEND;VALUE=DATE:20260425
DTSTAMP:20260421T034018
CREATED:20250319T143506Z
LAST-MODIFIED:20260323T094438Z
UID:990000156-1776643200-1777075199@esavs.org
SUMMARY:Diagnostic Imaging: Radiology I
DESCRIPTION:
URL:https://esavs.org/event/radiology-1-2026/
LOCATION:Luxembourg\, NH Hotel Luxembourg\, 1 route de Trèves\, Niederanven\, 2633\, Luxembourg
CATEGORIES:CASVM-MASVM,Diagnostic Imaging
ATTACH;FMTTYPE=image/webp:https://esavs.org/wp-content/uploads/2025/03/esavs_radiology.webp
END:VEVENT
BEGIN:VEVENT
DTSTART;TZID=Europe/Brussels:20260424T000000
DTEND;TZID=Europe/Brussels:20260428T235900
DTSTAMP:20260421T034018
CREATED:20240612T092228Z
LAST-MODIFIED:20260327T092305Z
UID:990000339-1776988800-1777420740@esavs.org
SUMMARY:Dentistry II
DESCRIPTION:
URL:https://esavs.org/event/dentistry-2-april-2026/
LOCATION:Duleek\, Ireland\, iM3 Dental Limited - Unit 29\, Duleek Business Park\, Co.\, Meath\, A92 N72W\, Ireland
CATEGORIES:CASVM-MASVM,Dentistry
ATTACH;FMTTYPE=image/jpeg:https://esavs.org/wp-content/uploads/2024/06/esavs_dentistry-1-1-1.jpg
END:VEVENT
BEGIN:VEVENT
DTSTART;VALUE=DATE:20260427
DTEND;VALUE=DATE:20260502
DTSTAMP:20260421T034018
CREATED:20250321T135336Z
LAST-MODIFIED:20260318T084410Z
UID:990000341-1777248000-1777679999@esavs.org
SUMMARY:Orthopaedic Surgery - Trauma Basic Course
DESCRIPTION:
URL:https://esavs.org/event/orthopaedics-truma-basic-course-april-2026/
LOCATION:Vienna\, Austria\, thv – International Training Center for Human & Veterinary Medicine Bergmillergasse 5\, Stiege 2\, Top 3\, Vienna\, 1140\, Austria
CATEGORIES:CASVM-MASVM,Orthopaedic Surgery
ATTACH;FMTTYPE=image/webp:https://esavs.org/wp-content/uploads/2025/03/esavs_orthopaedics_3.webp
END:VEVENT
BEGIN:VEVENT
DTSTART;VALUE=DATE:20260427
DTEND;VALUE=DATE:20260515
DTSTAMP:20260421T034018
CREATED:20250416T142359Z
LAST-MODIFIED:20260407T122554Z
UID:990000338-1777248000-1778803199@esavs.org
SUMMARY:Soft Tissue Surgery I
DESCRIPTION:
URL:https://esavs.org/event/soft-tissue-surgery-1-may-2026/
LOCATION:Valencia\, Spain\, Valencia\, Spain
CATEGORIES:CASVM-MASVM,Soft Tissue Surgery
ATTACH;FMTTYPE=image/webp:https://esavs.org/wp-content/uploads/2025/04/esavs_sts_1.webp
END:VEVENT
BEGIN:VEVENT
DTSTART;VALUE=DATE:20260501
DTEND;VALUE=DATE:20260506
DTSTAMP:20260421T034018
CREATED:20240612T092228Z
LAST-MODIFIED:20260312T114638Z
UID:990000311-1777593600-1778025599@esavs.org
SUMMARY:Cardiology IV
DESCRIPTION:
URL:https://esavs.org/event/cardiology-4-may-2026/
LOCATION:Luxembourg\, NH Hotel Luxembourg\, 1 route de Trèves\, Niederanven\, 2633\, Luxembourg
CATEGORIES:CASVM-MASVM,Cardiology
ATTACH;FMTTYPE=image/webp:https://esavs.org/wp-content/uploads/2025/02/esavs_cardiology_2.webp
END:VEVENT
BEGIN:VEVENT
DTSTART;VALUE=DATE:20260504
DTEND;VALUE=DATE:20260509
DTSTAMP:20260421T034018
CREATED:20250319T071608Z
LAST-MODIFIED:20260316T114012Z
UID:990000297-1777852800-1778284799@esavs.org
SUMMARY:Lab Diagnostics: Cytology I
DESCRIPTION:
URL:https://esavs.org/event/lab-diagnostics-cytology-1-2026/
LOCATION:Cologne / Germany\, Hotel Mondial am Dom Cologne\, Kurt-Hackenberg-Platz 1\, Cologne\, 50667\, Germany
CATEGORIES:CASVM-MASVM,Lab Diagnostics
ATTACH;FMTTYPE=image/webp:https://esavs.org/wp-content/uploads/2025/03/esavs_lab-diagnostics_1.webp
END:VEVENT
BEGIN:VEVENT
DTSTART;VALUE=DATE:20260506
DTEND;VALUE=DATE:20260511
DTSTAMP:20260421T034018
CREATED:20240612T092228Z
LAST-MODIFIED:20260312T115220Z
UID:990000312-1778025600-1778457599@esavs.org
SUMMARY:Cardiology V
DESCRIPTION:
URL:https://esavs.org/event/cardiology-5-may-2026/
LOCATION:Luxembourg\, NH Hotel Luxembourg\, 1 route de Trèves\, Niederanven\, 2633\, Luxembourg
CATEGORIES:CASVM-MASVM,Cardiology
ATTACH;FMTTYPE=image/webp:https://esavs.org/wp-content/uploads/2025/02/esavs_cardiology_3.webp
END:VEVENT
BEGIN:VEVENT
DTSTART;VALUE=DATE:20260509
DTEND;VALUE=DATE:20260514
DTSTAMP:20260421T034018
CREATED:20250319T150515Z
LAST-MODIFIED:20260409T121210Z
UID:990000344-1778284800-1778716799@esavs.org
SUMMARY:Diagnostic Imaging: Ultrasonography Introduction
DESCRIPTION:
URL:https://esavs.org/event/diagnostic-imaging-ultrasonography-2026/
LOCATION:Prague / CZ\, Faculty of Tropical AgriSciences - Czech University of Life Sciences Prague Kamýcká 129\, Prague\, 16500\, Czech Republic
CATEGORIES:CASVM-MASVM,Diagnostic Imaging
ATTACH;FMTTYPE=image/webp:https://esavs.org/wp-content/uploads/2025/03/esavs_ultrasound_2.webp
END:VEVENT
BEGIN:VEVENT
DTSTART;VALUE=DATE:20260518
DTEND;VALUE=DATE:20260523
DTSTAMP:20260421T034018
CREATED:20250321T135336Z
LAST-MODIFIED:20260309T115552Z
UID:990000300-1779062400-1779494399@esavs.org
SUMMARY:Orthopaedics II
DESCRIPTION:
URL:https://esavs.org/event/orthopaedics-2-may-2026/
LOCATION:Vienna\, Austria\, thv – International Training Center for Human & Veterinary Medicine Bergmillergasse 5\, Stiege 2\, Top 3\, Vienna\, 1140\, Austria
CATEGORIES:CASVM-MASVM,Orthopaedic Surgery
ATTACH;FMTTYPE=image/webp:https://esavs.org/wp-content/uploads/2025/03/esavs_orthopaedics_2.webp
END:VEVENT
BEGIN:VEVENT
DTSTART;VALUE=DATE:20260518
DTEND;VALUE=DATE:20260523
DTSTAMP:20260421T034018
CREATED:20250319T150515Z
LAST-MODIFIED:20260402T133442Z
UID:990000385-1779062400-1779494399@esavs.org
SUMMARY:Diagnostic Imaging: Ultrasonography Introduction
DESCRIPTION:
URL:https://esavs.org/event/diagnostic-imaging-ultrasonography-bangkok-2026/
LOCATION:Bangkok/Thailand\, CU Innovation Center for Veterinary Clinical Training\, 60th Anniversary Building\, Faculty of Veterinary Science\, Chulalongkorn University\, 254 Phayathai Road\, Pathumwan\, Bangkok\, 10330\, Thailand
CATEGORIES:CASVM-MASVM,Diagnostic Imaging
ATTACH;FMTTYPE=image/webp:https://esavs.org/wp-content/uploads/2025/03/esavs_ultrasound_2.webp
END:VEVENT
BEGIN:VEVENT
DTSTART;VALUE=DATE:20260518
DTEND;VALUE=DATE:20260523
DTSTAMP:20260421T034018
CREATED:20250321T101834Z
LAST-MODIFIED:20260409T132626Z
UID:990000304-1779062400-1779494399@esavs.org
SUMMARY:Clinical Nutrition I
DESCRIPTION:
URL:https://esavs.org/event/clinical-nutrition-1-2026/
LOCATION:Vienna\, Austria\, Seminarhotel Springer Schlössl Tivoligasse 73\, Vienna\, 1120\, Austria
CATEGORIES:CASVM-MASVM,Nutrition
ATTACH;FMTTYPE=image/webp:https://esavs.org/wp-content/uploads/2025/03/esavs_clinical_nutrition_1.webp
END:VEVENT
BEGIN:VEVENT
DTSTART;VALUE=DATE:20260518
DTEND;VALUE=DATE:20260523
DTSTAMP:20260421T034018
CREATED:20250424T125007Z
LAST-MODIFIED:20260402T115417Z
UID:990000299-1779062400-1779494399@esavs.org
SUMMARY:Internal Medicine: Gastroenterology\, Liver & Pancreas
DESCRIPTION:
URL:https://esavs.org/event/internal-medicine-gastroenterology-liver-pancreas-2026/
LOCATION:Edinburgh / UK
CATEGORIES:CASVM-MASVM,Internal Medicine
ATTACH;FMTTYPE=image/webp:https://esavs.org/wp-content/uploads/2025/04/esavs_im_5.webp
END:VEVENT
BEGIN:VEVENT
DTSTART;VALUE=DATE:20260518
DTEND;VALUE=DATE:20260523
DTSTAMP:20260421T034018
CREATED:20250320T154919Z
LAST-MODIFIED:20260327T112703Z
UID:990000298-1779062400-1779494399@esavs.org
SUMMARY:Emergency & Critical Care I
DESCRIPTION:
URL:https://esavs.org/event/emergency-critical-care-1-may-2026/
LOCATION:Online
CATEGORIES:CASVM-MASVM,Emergency & Critical Care
ATTACH;FMTTYPE=image/webp:https://esavs.org/wp-content/uploads/2025/03/esavs_ecc_3.webp
END:VEVENT
BEGIN:VEVENT
DTSTART;VALUE=DATE:20260518
DTEND;VALUE=DATE:20260523
DTSTAMP:20260421T034018
CREATED:20240612T092228Z
LAST-MODIFIED:20260309T130906Z
UID:990000271-1779062400-1779494399@esavs.org
SUMMARY:Dermatology V
DESCRIPTION:
URL:https://esavs.org/event/dermatology-5-may-2026/
LOCATION:Palma\, Spain\, Calle Ramón y Cajal\, 12\, Palma de Mallorca\, 07011\, Spain
CATEGORIES:CASVM-MASVM,Dermatology
ATTACH;FMTTYPE=image/jpeg:https://esavs.org/wp-content/uploads/2024/06/esavs_dermatology-2-1.jpg
END:VEVENT
BEGIN:VEVENT
DTSTART;VALUE=DATE:20260601
DTEND;VALUE=DATE:20260606
DTSTAMP:20260421T034018
CREATED:20240612T092228Z
LAST-MODIFIED:20260413T134250Z
UID:990000319-1780272000-1780703999@esavs.org
SUMMARY:Exotic Pet - Reptiles: Herpetological Medicine and Surgery
DESCRIPTION:
URL:https://esavs.org/event/exotic-pets-reptiles-herpetological-medicine-and-surgery-2026/
LOCATION:Vienna\, Austria\, Haus des Meeres\, Fritz-Grünbaum-Platz 1\, Vienna\, 1060\, Austria
CATEGORIES:CASVM-MASVM,Exotic Pet
ATTACH;FMTTYPE=image/webp:https://esavs.org/wp-content/uploads/2024/06/esavs_exotic_pets_medicine_2.webp
END:VEVENT
BEGIN:VEVENT
DTSTART;VALUE=DATE:20260610
DTEND;VALUE=DATE:20260615
DTSTAMP:20260421T034018
CREATED:20240612T092228Z
LAST-MODIFIED:20260316T080046Z
UID:990000313-1781049600-1781481599@esavs.org
SUMMARY:Oncology I
DESCRIPTION:
URL:https://esavs.org/event/oncology-1-june-2026/
LOCATION:Luxembourg\, NH Hotel Luxembourg\, 1 route de Trèves\, Niederanven\, 2633\, Luxembourg
CATEGORIES:CASVM-MASVM,Oncology
ATTACH;FMTTYPE=image/webp:https://esavs.org/wp-content/uploads/2024/06/esavs_oncology_2.webp
END:VEVENT
BEGIN:VEVENT
DTSTART;VALUE=DATE:20260615
DTEND;VALUE=DATE:20260620
DTSTAMP:20260421T034018
CREATED:20250321T135336Z
LAST-MODIFIED:20260309T101058Z
UID:990000320-1781481600-1781913599@esavs.org
SUMMARY:Feline Orthopaedics
DESCRIPTION:
URL:https://esavs.org/event/feline-orthopaedics-2026/
LOCATION:Vienna/Austria\, THV International Training Center for Human & Veterinary Medicine Bergmillergasse 5\, Stiege 2\, Top 5+6\, Vienna\, 1140
CATEGORIES:CASVM-MASVM,Feline Medicine,Orthopaedic Surgery
ATTACH;FMTTYPE=image/webp:https://esavs.org/wp-content/uploads/2025/03/esavs_feline_sts_2.webp
END:VEVENT
BEGIN:VEVENT
DTSTART;TZID=Europe/Brussels:20260616T000000
DTEND;TZID=Europe/Brussels:20260620T235900
DTSTAMP:20260421T034018
CREATED:20240612T092228Z
LAST-MODIFIED:20260415T100407Z
UID:990000380-1781568000-1781999940@esavs.org
SUMMARY:Dentistry I
DESCRIPTION:
URL:https://esavs.org/event/dentistry-1-june-2026-bangkok/
LOCATION:Bangkok/Thailand\, CU Innovation Center for Veterinary Clinical Training\, 60th Anniversary Building\, Faculty of Veterinary Science\, Chulalongkorn University\, 254 Phayathai Road\, Pathumwan\, Bangkok\, 10330\, Thailand
CATEGORIES:CASVM-MASVM,Dentistry
ATTACH;FMTTYPE=image/jpeg:https://esavs.org/wp-content/uploads/2024/06/esavs_dentistry-1-1-1.jpg
END:VEVENT
BEGIN:VEVENT
DTSTART;VALUE=DATE:20260622
DTEND;VALUE=DATE:20260627
DTSTAMP:20260421T034018
CREATED:20250423T134950Z
LAST-MODIFIED:20260316T080341Z
UID:990000328-1782086400-1782518399@esavs.org
SUMMARY:Cardiology I
DESCRIPTION:
URL:https://esavs.org/event/cardiology-1-june-2026/
LOCATION:Palma\, Spain\, Calle Ramón y Cajal\, 12\, Palma de Mallorca\, 07011\, Spain
CATEGORIES:CASVM-MASVM,Cardiology
ATTACH;FMTTYPE=image/webp:https://esavs.org/wp-content/uploads/2025/04/esavs_cardiology_14.webp
END:VEVENT
BEGIN:VEVENT
DTSTART;VALUE=DATE:20260622
DTEND;VALUE=DATE:20260627
DTSTAMP:20260421T034018
CREATED:20240612T092228Z
LAST-MODIFIED:20260316T120413Z
UID:990000321-1782086400-1782518399@esavs.org
SUMMARY:Exotic Pet – Small Mammal: Diagnostic Imaging and Medicine
DESCRIPTION:
URL:https://esavs.org/event/exotic-pets-small-mammals-diagnostic-imaging-and-medicine-2026/
LOCATION:Vienna/Austria\, THV International Training Center for Human & Veterinary Medicine Bergmillergasse 5\, Stiege 2\, Top 5+6\, Vienna\, 1140
CATEGORIES:CASVM-MASVM,Exotic Pet
ATTACH;FMTTYPE=image/webp:https://esavs.org/wp-content/uploads/2024/06/esavs_exotic_pets_medicine_2.webp
END:VEVENT
BEGIN:VEVENT
DTSTART;VALUE=DATE:20260622
DTEND;VALUE=DATE:20260627
DTSTAMP:20260421T034018
CREATED:20250321T105629Z
LAST-MODIFIED:20260309T113621Z
UID:990000180-1782086400-1782518399@esavs.org
SUMMARY:Ophthalmology II
DESCRIPTION:
URL:https://esavs.org/event/ophthalmology-2-june-2026/
LOCATION:Toulouse / France
CATEGORIES:CASVM-MASVM,Ophthalmology
ATTACH;FMTTYPE=image/webp:https://esavs.org/wp-content/uploads/2025/03/esavs_ophthalmology_2.webp
END:VEVENT
BEGIN:VEVENT
DTSTART;VALUE=DATE:20260627
DTEND;VALUE=DATE:20260702
DTSTAMP:20260421T034018
CREATED:20250423T134950Z
LAST-MODIFIED:20260309T084720Z
UID:990000329-1782518400-1782950399@esavs.org
SUMMARY:Cardiology I
DESCRIPTION:
URL:https://esavs.org/event/cardiology-1-july-2026/
LOCATION:Palma\, Spain\, Calle Ramón y Cajal\, 12\, Palma de Mallorca\, 07011\, Spain
CATEGORIES:CASVM-MASVM,Cardiology
ATTACH;FMTTYPE=image/webp:https://esavs.org/wp-content/uploads/2025/04/esavs_cardiology_14.webp
END:VEVENT
BEGIN:VEVENT
DTSTART;VALUE=DATE:20260629
DTEND;VALUE=DATE:20260704
DTSTAMP:20260421T034018
CREATED:20250320T163717Z
LAST-MODIFIED:20260309T110843Z
UID:990000326-1782691200-1783123199@esavs.org
SUMMARY:Lab Diagnostics: Biochemistry & Infectious Diseases
DESCRIPTION:
URL:https://esavs.org/event/lab-diagnostics-biochemistry-infectious-diseases-2026/
LOCATION:Online
CATEGORIES:CASVM-MASVM,Lab Diagnostics
ATTACH;FMTTYPE=image/webp:https://esavs.org/wp-content/uploads/2025/03/esavs_lab-diagnostics_1.webp
END:VEVENT
BEGIN:VEVENT
DTSTART;VALUE=DATE:20260706
DTEND;VALUE=DATE:20260711
DTSTAMP:20260421T034018
CREATED:20250319T150515Z
LAST-MODIFIED:20260309T131638Z
UID:990000318-1783296000-1783727999@esavs.org
SUMMARY:Diagnostic Imaging: Diagnostic Ultrasound I
DESCRIPTION:
URL:https://esavs.org/event/diagnostic-imaging-diagnostic-ultrasound-1-july-2026/
LOCATION:Luxembourg\, NH Hotel Luxembourg\, 1 route de Trèves\, Niederanven\, 2633\, Luxembourg
CATEGORIES:CASVM-MASVM,Diagnostic Imaging
ATTACH;FMTTYPE=image/webp:https://esavs.org/wp-content/uploads/2025/03/esavs_ultrasound_2.webp
END:VEVENT
END:VCALENDAR