BEGIN:VCALENDAR
VERSION:2.0
PRODID:-//European School for Advanced Veterinary Studies - ECPv6.15.18//NONSGML v1.0//EN
CALSCALE:GREGORIAN
METHOD:PUBLISH
X-ORIGINAL-URL:https://esavs.org
X-WR-CALDESC:Events for European School for Advanced Veterinary Studies
REFRESH-INTERVAL;VALUE=DURATION:PT1H
X-Robots-Tag:noindex
X-PUBLISHED-TTL:PT1H
BEGIN:VTIMEZONE
TZID:Europe/Brussels
BEGIN:DAYLIGHT
TZOFFSETFROM:+0100
TZOFFSETTO:+0200
TZNAME:CEST
DTSTART:20250330T010000
END:DAYLIGHT
BEGIN:STANDARD
TZOFFSETFROM:+0200
TZOFFSETTO:+0100
TZNAME:CET
DTSTART:20251026T010000
END:STANDARD
BEGIN:DAYLIGHT
TZOFFSETFROM:+0100
TZOFFSETTO:+0200
TZNAME:CEST
DTSTART:20260329T010000
END:DAYLIGHT
BEGIN:STANDARD
TZOFFSETFROM:+0200
TZOFFSETTO:+0100
TZNAME:CET
DTSTART:20261025T010000
END:STANDARD
BEGIN:DAYLIGHT
TZOFFSETFROM:+0100
TZOFFSETTO:+0200
TZNAME:CEST
DTSTART:20270328T010000
END:DAYLIGHT
BEGIN:STANDARD
TZOFFSETFROM:+0200
TZOFFSETTO:+0100
TZNAME:CET
DTSTART:20271031T010000
END:STANDARD
END:VTIMEZONE
BEGIN:VEVENT
DTSTART;VALUE=DATE:20260902
DTEND;VALUE=DATE:20261010
DTSTAMP:20260421T002932
CREATED:20250416T142359Z
LAST-MODIFIED:20260309T122500Z
UID:990000375-1788307200-1791590399@esavs.org
SUMMARY:Soft Tissue Surgery I
DESCRIPTION:
URL:https://esavs.org/event/soft-tissue-surgery-1-october-2026/
LOCATION:Istanbul / Turkey\, Koç University Hospital Davutpaşa Caddesi No:4\, Topkapı\, Istanbul\, 34010\, Turkey
CATEGORIES:CASVM-MASVM,Soft Tissue Surgery
ATTACH;FMTTYPE=image/webp:https://esavs.org/wp-content/uploads/2025/04/esavs_sts_1.webp
END:VEVENT
BEGIN:VEVENT
DTSTART;VALUE=DATE:20261001
DTEND;VALUE=DATE:20261113
DTSTAMP:20260421T002932
CREATED:20250416T132006Z
LAST-MODIFIED:20260417T061504Z
UID:990000388-1790812800-1794527999@esavs.org
SUMMARY:Soft Tissue Surgery I
DESCRIPTION:
URL:https://esavs.org/event/soft-tissue-surgery-1-november-2026/
LOCATION:Vienna\, Austria\, thv – International Training Center for Human & Veterinary Medicine Bergmillergasse 5\, Stiege 2\, Top 3\, Vienna\, 1140\, Austria
CATEGORIES:CASVM-MASVM,Soft Tissue Surgery
ATTACH;FMTTYPE=image/webp:https://esavs.org/wp-content/uploads/2025/04/esavs_sts_1.webp
END:VEVENT
BEGIN:VEVENT
DTSTART;VALUE=DATE:20261005
DTEND;VALUE=DATE:20261010
DTSTAMP:20260421T002932
CREATED:20240612T092228Z
LAST-MODIFIED:20260309T131229Z
UID:990000371-1791158400-1791590399@esavs.org
SUMMARY:Internal Medicine: Endoscopy Course Using Natural Orifices
DESCRIPTION:
URL:https://esavs.org/event/internal-medicine-endoscopy-course-using-natural-orifices-october-2026/
LOCATION:Vienna/Austria\, THV International Training Center for Human & Veterinary Medicine Bergmillergasse 5\, Stiege 2\, Top 5+6\, Vienna\, 1140
CATEGORIES:CASVM-MASVM,Internal Medicine,Endoscopy
ATTACH;FMTTYPE=image/webp:https://esavs.org/wp-content/uploads/2024/06/esavs_endoscopy_1.webp
END:VEVENT
BEGIN:VEVENT
DTSTART;VALUE=DATE:20261005
DTEND;VALUE=DATE:20261010
DTSTAMP:20260421T002932
CREATED:20250320T135102Z
LAST-MODIFIED:20260309T102739Z
UID:990000163-1791158400-1791590399@esavs.org
SUMMARY:Feline Internal Medicine I
DESCRIPTION:
URL:https://esavs.org/event/feline-internal-medicine-1-2026/
LOCATION:Online
CATEGORIES:CASVM-MASVM,Feline Medicine
ATTACH;FMTTYPE=image/webp:https://esavs.org/wp-content/uploads/2025/03/esavs_feline_im_1.webp
END:VEVENT
BEGIN:VEVENT
DTSTART;VALUE=DATE:20261007
DTEND;VALUE=DATE:20261012
DTSTAMP:20260421T002932
CREATED:20240612T092228Z
LAST-MODIFIED:20260309T084801Z
UID:990000114-1791331200-1791763199@esavs.org
SUMMARY:Cardiology III
DESCRIPTION:
URL:https://esavs.org/event/cardiology-3-october-2026/
LOCATION:Warsaw / Poland
CATEGORIES:CASVM-MASVM,Cardiology
ATTACH;FMTTYPE=image/webp:https://esavs.org/wp-content/uploads/2025/02/esavs_cardiology_12.webp
END:VEVENT
END:VCALENDAR