BEGIN:VCALENDAR
VERSION:2.0
PRODID:-//European School for Advanced Veterinary Studies - ECPv6.15.18//NONSGML v1.0//EN
CALSCALE:GREGORIAN
METHOD:PUBLISH
X-ORIGINAL-URL:https://esavs.org
X-WR-CALDESC:Events for European School for Advanced Veterinary Studies
REFRESH-INTERVAL;VALUE=DURATION:PT1H
X-Robots-Tag:noindex
X-PUBLISHED-TTL:PT1H
BEGIN:VTIMEZONE
TZID:Europe/Brussels
BEGIN:DAYLIGHT
TZOFFSETFROM:+0100
TZOFFSETTO:+0200
TZNAME:CEST
DTSTART:20250330T010000
END:DAYLIGHT
BEGIN:STANDARD
TZOFFSETFROM:+0200
TZOFFSETTO:+0100
TZNAME:CET
DTSTART:20251026T010000
END:STANDARD
BEGIN:DAYLIGHT
TZOFFSETFROM:+0100
TZOFFSETTO:+0200
TZNAME:CEST
DTSTART:20260329T010000
END:DAYLIGHT
BEGIN:STANDARD
TZOFFSETFROM:+0200
TZOFFSETTO:+0100
TZNAME:CET
DTSTART:20261025T010000
END:STANDARD
BEGIN:DAYLIGHT
TZOFFSETFROM:+0100
TZOFFSETTO:+0200
TZNAME:CEST
DTSTART:20270328T010000
END:DAYLIGHT
BEGIN:STANDARD
TZOFFSETFROM:+0200
TZOFFSETTO:+0100
TZNAME:CET
DTSTART:20271031T010000
END:STANDARD
END:VTIMEZONE
BEGIN:VEVENT
DTSTART;VALUE=DATE:20260223
DTEND;VALUE=DATE:20260228
DTSTAMP:20260420T154532
CREATED:20250321T131508Z
LAST-MODIFIED:20260309T115127Z
UID:990000283-1771804800-1772236799@esavs.org
SUMMARY:Orthopaedics I
DESCRIPTION:
URL:https://esavs.org/event/orthopaedics-1-february-2026/
LOCATION:Vienna\, Austria\, thv – International Training Center for Human & Veterinary Medicine Bergmillergasse 5\, Stiege 2\, Top 3\, Vienna\, 1140\, Austria
CATEGORIES:CASVM-MASVM,Orthopaedic Surgery
ATTACH;FMTTYPE=image/webp:https://esavs.org/wp-content/uploads/2025/03/esavs_orthopaedics_1webp.webp
END:VEVENT
BEGIN:VEVENT
DTSTART;VALUE=DATE:20260223
DTEND;VALUE=DATE:20260228
DTSTAMP:20260420T154532
CREATED:20250424T124156Z
LAST-MODIFIED:20260309T103123Z
UID:990000282-1771804800-1772236799@esavs.org
SUMMARY:Internal Medicine: Emergency & Critical Care & Toxicology
DESCRIPTION:
URL:https://esavs.org/event/internal-medicine-emergency-critical-care-toxicology-2026/
LOCATION:Vienna\, Austria\, Vetklinikum LS GmbH & Co KG\, Laxenburgerstrasse 252a\, Vienna\, 1230\, Austria
CATEGORIES:CASVM-MASVM,Internal Medicine
ATTACH;FMTTYPE=image/webp:https://esavs.org/wp-content/uploads/2025/04/esavs_im_2.webp
END:VEVENT
END:VCALENDAR