BEGIN:VCALENDAR
VERSION:2.0
PRODID:-//European School for Advanced Veterinary Studies - ECPv6.15.18//NONSGML v1.0//EN
CALSCALE:GREGORIAN
METHOD:PUBLISH
X-WR-CALNAME:European School for Advanced Veterinary Studies
X-ORIGINAL-URL:https://esavs.org
X-WR-CALDESC:Events for European School for Advanced Veterinary Studies
REFRESH-INTERVAL;VALUE=DURATION:PT1H
X-Robots-Tag:noindex
X-PUBLISHED-TTL:PT1H
BEGIN:VTIMEZONE
TZID:Europe/Brussels
BEGIN:DAYLIGHT
TZOFFSETFROM:+0100
TZOFFSETTO:+0200
TZNAME:CEST
DTSTART:20250330T010000
END:DAYLIGHT
BEGIN:STANDARD
TZOFFSETFROM:+0200
TZOFFSETTO:+0100
TZNAME:CET
DTSTART:20251026T010000
END:STANDARD
BEGIN:DAYLIGHT
TZOFFSETFROM:+0100
TZOFFSETTO:+0200
TZNAME:CEST
DTSTART:20260329T010000
END:DAYLIGHT
BEGIN:STANDARD
TZOFFSETFROM:+0200
TZOFFSETTO:+0100
TZNAME:CET
DTSTART:20261025T010000
END:STANDARD
BEGIN:DAYLIGHT
TZOFFSETFROM:+0100
TZOFFSETTO:+0200
TZNAME:CEST
DTSTART:20270328T010000
END:DAYLIGHT
BEGIN:STANDARD
TZOFFSETFROM:+0200
TZOFFSETTO:+0100
TZNAME:CET
DTSTART:20271031T010000
END:STANDARD
END:VTIMEZONE
BEGIN:VEVENT
DTSTART;VALUE=DATE:20260627
DTEND;VALUE=DATE:20260702
DTSTAMP:20260420T185126
CREATED:20250423T134950Z
LAST-MODIFIED:20260309T084720Z
UID:990000329-1782518400-1782950399@esavs.org
SUMMARY:Cardiology I
DESCRIPTION:
URL:https://esavs.org/event/cardiology-1-july-2026/
LOCATION:Palma\, Spain\, Calle Ramón y Cajal\, 12\, Palma de Mallorca\, 07011\, Spain
CATEGORIES:CASVM-MASVM,Cardiology
ATTACH;FMTTYPE=image/webp:https://esavs.org/wp-content/uploads/2025/04/esavs_cardiology_14.webp
END:VEVENT
BEGIN:VEVENT
DTSTART;VALUE=DATE:20260629
DTEND;VALUE=DATE:20260704
DTSTAMP:20260420T185126
CREATED:20250320T163717Z
LAST-MODIFIED:20260309T110843Z
UID:990000326-1782691200-1783123199@esavs.org
SUMMARY:Lab Diagnostics: Biochemistry & Infectious Diseases
DESCRIPTION:
URL:https://esavs.org/event/lab-diagnostics-biochemistry-infectious-diseases-2026/
LOCATION:Online
CATEGORIES:CASVM-MASVM,Lab Diagnostics
ATTACH;FMTTYPE=image/webp:https://esavs.org/wp-content/uploads/2025/03/esavs_lab-diagnostics_1.webp
END:VEVENT
BEGIN:VEVENT
DTSTART;VALUE=DATE:20260706
DTEND;VALUE=DATE:20260711
DTSTAMP:20260420T185126
CREATED:20250319T150515Z
LAST-MODIFIED:20260309T131638Z
UID:990000318-1783296000-1783727999@esavs.org
SUMMARY:Diagnostic Imaging: Diagnostic Ultrasound I
DESCRIPTION:
URL:https://esavs.org/event/diagnostic-imaging-diagnostic-ultrasound-1-july-2026/
LOCATION:Luxembourg\, NH Hotel Luxembourg\, 1 route de Trèves\, Niederanven\, 2633\, Luxembourg
CATEGORIES:CASVM-MASVM,Diagnostic Imaging
ATTACH;FMTTYPE=image/webp:https://esavs.org/wp-content/uploads/2025/03/esavs_ultrasound_2.webp
END:VEVENT
BEGIN:VEVENT
DTSTART;VALUE=DATE:20260706
DTEND;VALUE=DATE:20260711
DTSTAMP:20260420T185126
CREATED:20240612T092228Z
LAST-MODIFIED:20260309T084515Z
UID:990000112-1783296000-1783727999@esavs.org
SUMMARY:Anaesthesia & Pain Management II
DESCRIPTION:
URL:https://esavs.org/event/anaesthesia-pain-management-2-july-2026/
LOCATION:Vienna\, Austria\, Seminarhotel Springer Schlössl Tivoligasse 73\, Vienna\, 1120\, Austria
CATEGORIES:CASVM-MASVM,Anaesthesia & Pain Management
ATTACH;FMTTYPE=image/jpeg:https://esavs.org/wp-content/uploads/2024/06/anae1.jpg
END:VEVENT
BEGIN:VEVENT
DTSTART;VALUE=DATE:20260710
DTEND;VALUE=DATE:20260904
DTSTAMP:20260420T185126
CREATED:20250320T143113Z
LAST-MODIFIED:20260309T102600Z
UID:990000363-1783641600-1788479999@esavs.org
SUMMARY:Feline Soft Tissue Surgery
DESCRIPTION:
URL:https://esavs.org/event/feline-soft-tissue-surgery-head-and-neck-surgery-2026/
LOCATION:Warsaw\, Poland
CATEGORIES:CASVM-MASVM,Feline Medicine,Soft Tissue Surgery
ATTACH;FMTTYPE=image/webp:https://esavs.org/wp-content/uploads/2025/03/esavs_feline_sts_2.webp
END:VEVENT
BEGIN:VEVENT
DTSTART;VALUE=DATE:20260721
DTEND;VALUE=DATE:20260826
DTSTAMP:20260420T185126
CREATED:20250416T140400Z
LAST-MODIFIED:20260309T121944Z
UID:990000193-1784592000-1787702399@esavs.org
SUMMARY:Soft Tissue Surgery I
DESCRIPTION:
URL:https://esavs.org/event/soft-tissue-surgery-1-august-2026/
LOCATION:Warsaw\, Poland\, Warsaw University of Life Sciences – SGGW\, Nowoursynowska street 159 C (building # 22)\, Warsaw\, 02-787\, Poland
CATEGORIES:CASVM-MASVM,Soft Tissue Surgery
ATTACH;FMTTYPE=image/webp:https://esavs.org/wp-content/uploads/2025/04/esavs_sts_6.webp
END:VEVENT
END:VCALENDAR