BEGIN:VCALENDAR
VERSION:2.0
PRODID:-//European School for Advanced Veterinary Studies - ECPv6.15.18//NONSGML v1.0//EN
CALSCALE:GREGORIAN
METHOD:PUBLISH
X-ORIGINAL-URL:https://esavs.org
X-WR-CALDESC:Events for European School for Advanced Veterinary Studies
REFRESH-INTERVAL;VALUE=DURATION:PT1H
X-Robots-Tag:noindex
X-PUBLISHED-TTL:PT1H
BEGIN:VTIMEZONE
TZID:Europe/Brussels
BEGIN:DAYLIGHT
TZOFFSETFROM:+0100
TZOFFSETTO:+0200
TZNAME:CEST
DTSTART:20250330T010000
END:DAYLIGHT
BEGIN:STANDARD
TZOFFSETFROM:+0200
TZOFFSETTO:+0100
TZNAME:CET
DTSTART:20251026T010000
END:STANDARD
BEGIN:DAYLIGHT
TZOFFSETFROM:+0100
TZOFFSETTO:+0200
TZNAME:CEST
DTSTART:20260329T010000
END:DAYLIGHT
BEGIN:STANDARD
TZOFFSETFROM:+0200
TZOFFSETTO:+0100
TZNAME:CET
DTSTART:20261025T010000
END:STANDARD
BEGIN:DAYLIGHT
TZOFFSETFROM:+0100
TZOFFSETTO:+0200
TZNAME:CEST
DTSTART:20270328T010000
END:DAYLIGHT
BEGIN:STANDARD
TZOFFSETFROM:+0200
TZOFFSETTO:+0100
TZNAME:CET
DTSTART:20271031T010000
END:STANDARD
END:VTIMEZONE
BEGIN:VEVENT
DTSTART;VALUE=DATE:20260601
DTEND;VALUE=DATE:20260606
DTSTAMP:20260420T184845
CREATED:20240612T092228Z
LAST-MODIFIED:20260413T134250Z
UID:990000319-1780272000-1780703999@esavs.org
SUMMARY:Exotic Pet - Reptiles: Herpetological Medicine and Surgery
DESCRIPTION:
URL:https://esavs.org/event/exotic-pets-reptiles-herpetological-medicine-and-surgery-2026/
LOCATION:Vienna\, Austria\, Haus des Meeres\, Fritz-Grünbaum-Platz 1\, Vienna\, 1060\, Austria
CATEGORIES:CASVM-MASVM,Exotic Pet
ATTACH;FMTTYPE=image/webp:https://esavs.org/wp-content/uploads/2024/06/esavs_exotic_pets_medicine_2.webp
END:VEVENT
BEGIN:VEVENT
DTSTART;VALUE=DATE:20260610
DTEND;VALUE=DATE:20260615
DTSTAMP:20260420T184845
CREATED:20240612T092228Z
LAST-MODIFIED:20260316T080046Z
UID:990000313-1781049600-1781481599@esavs.org
SUMMARY:Oncology I
DESCRIPTION:
URL:https://esavs.org/event/oncology-1-june-2026/
LOCATION:Luxembourg\, NH Hotel Luxembourg\, 1 route de Trèves\, Niederanven\, 2633\, Luxembourg
CATEGORIES:CASVM-MASVM,Oncology
ATTACH;FMTTYPE=image/webp:https://esavs.org/wp-content/uploads/2024/06/esavs_oncology_2.webp
END:VEVENT
BEGIN:VEVENT
DTSTART;VALUE=DATE:20260615
DTEND;VALUE=DATE:20260620
DTSTAMP:20260420T184845
CREATED:20250321T135336Z
LAST-MODIFIED:20260309T101058Z
UID:990000320-1781481600-1781913599@esavs.org
SUMMARY:Feline Orthopaedics
DESCRIPTION:
URL:https://esavs.org/event/feline-orthopaedics-2026/
LOCATION:Vienna/Austria\, THV International Training Center for Human & Veterinary Medicine Bergmillergasse 5\, Stiege 2\, Top 5+6\, Vienna\, 1140
CATEGORIES:CASVM-MASVM,Feline Medicine,Orthopaedic Surgery
ATTACH;FMTTYPE=image/webp:https://esavs.org/wp-content/uploads/2025/03/esavs_feline_sts_2.webp
END:VEVENT
BEGIN:VEVENT
DTSTART;TZID=Europe/Brussels:20260616T000000
DTEND;TZID=Europe/Brussels:20260620T235900
DTSTAMP:20260420T184845
CREATED:20240612T092228Z
LAST-MODIFIED:20260415T100407Z
UID:990000380-1781568000-1781999940@esavs.org
SUMMARY:Dentistry I
DESCRIPTION:
URL:https://esavs.org/event/dentistry-1-june-2026-bangkok/
LOCATION:Bangkok/Thailand\, CU Innovation Center for Veterinary Clinical Training\, 60th Anniversary Building\, Faculty of Veterinary Science\, Chulalongkorn University\, 254 Phayathai Road\, Pathumwan\, Bangkok\, 10330\, Thailand
CATEGORIES:CASVM-MASVM,Dentistry
ATTACH;FMTTYPE=image/jpeg:https://esavs.org/wp-content/uploads/2024/06/esavs_dentistry-1-1-1.jpg
END:VEVENT
BEGIN:VEVENT
DTSTART;VALUE=DATE:20260622
DTEND;VALUE=DATE:20260627
DTSTAMP:20260420T184845
CREATED:20250423T134950Z
LAST-MODIFIED:20260316T080341Z
UID:990000328-1782086400-1782518399@esavs.org
SUMMARY:Cardiology I
DESCRIPTION:
URL:https://esavs.org/event/cardiology-1-june-2026/
LOCATION:Palma\, Spain\, Calle Ramón y Cajal\, 12\, Palma de Mallorca\, 07011\, Spain
CATEGORIES:CASVM-MASVM,Cardiology
ATTACH;FMTTYPE=image/webp:https://esavs.org/wp-content/uploads/2025/04/esavs_cardiology_14.webp
END:VEVENT
BEGIN:VEVENT
DTSTART;VALUE=DATE:20260622
DTEND;VALUE=DATE:20260627
DTSTAMP:20260420T184845
CREATED:20240612T092228Z
LAST-MODIFIED:20260316T120413Z
UID:990000321-1782086400-1782518399@esavs.org
SUMMARY:Exotic Pet – Small Mammal: Diagnostic Imaging and Medicine
DESCRIPTION:
URL:https://esavs.org/event/exotic-pets-small-mammals-diagnostic-imaging-and-medicine-2026/
LOCATION:Vienna/Austria\, THV International Training Center for Human & Veterinary Medicine Bergmillergasse 5\, Stiege 2\, Top 5+6\, Vienna\, 1140
CATEGORIES:CASVM-MASVM,Exotic Pet
ATTACH;FMTTYPE=image/webp:https://esavs.org/wp-content/uploads/2024/06/esavs_exotic_pets_medicine_2.webp
END:VEVENT
BEGIN:VEVENT
DTSTART;VALUE=DATE:20260622
DTEND;VALUE=DATE:20260627
DTSTAMP:20260420T184845
CREATED:20250321T105629Z
LAST-MODIFIED:20260309T113621Z
UID:990000180-1782086400-1782518399@esavs.org
SUMMARY:Ophthalmology II
DESCRIPTION:
URL:https://esavs.org/event/ophthalmology-2-june-2026/
LOCATION:Toulouse / France
CATEGORIES:CASVM-MASVM,Ophthalmology
ATTACH;FMTTYPE=image/webp:https://esavs.org/wp-content/uploads/2025/03/esavs_ophthalmology_2.webp
END:VEVENT
BEGIN:VEVENT
DTSTART;VALUE=DATE:20260627
DTEND;VALUE=DATE:20260702
DTSTAMP:20260420T184845
CREATED:20250423T134950Z
LAST-MODIFIED:20260309T084720Z
UID:990000329-1782518400-1782950399@esavs.org
SUMMARY:Cardiology I
DESCRIPTION:
URL:https://esavs.org/event/cardiology-1-july-2026/
LOCATION:Palma\, Spain\, Calle Ramón y Cajal\, 12\, Palma de Mallorca\, 07011\, Spain
CATEGORIES:CASVM-MASVM,Cardiology
ATTACH;FMTTYPE=image/webp:https://esavs.org/wp-content/uploads/2025/04/esavs_cardiology_14.webp
END:VEVENT
BEGIN:VEVENT
DTSTART;VALUE=DATE:20260629
DTEND;VALUE=DATE:20260704
DTSTAMP:20260420T184845
CREATED:20250320T163717Z
LAST-MODIFIED:20260309T110843Z
UID:990000326-1782691200-1783123199@esavs.org
SUMMARY:Lab Diagnostics: Biochemistry & Infectious Diseases
DESCRIPTION:
URL:https://esavs.org/event/lab-diagnostics-biochemistry-infectious-diseases-2026/
LOCATION:Online
CATEGORIES:CASVM-MASVM,Lab Diagnostics
ATTACH;FMTTYPE=image/webp:https://esavs.org/wp-content/uploads/2025/03/esavs_lab-diagnostics_1.webp
END:VEVENT
END:VCALENDAR