BEGIN:VCALENDAR
VERSION:2.0
PRODID:-//European School for Advanced Veterinary Studies - ECPv6.15.20//NONSGML v1.0//EN
CALSCALE:GREGORIAN
METHOD:PUBLISH
X-WR-CALNAME:European School for Advanced Veterinary Studies
X-ORIGINAL-URL:https://esavs.org
X-WR-CALDESC:Events for European School for Advanced Veterinary Studies
REFRESH-INTERVAL;VALUE=DURATION:PT1H
X-Robots-Tag:noindex
X-PUBLISHED-TTL:PT1H
BEGIN:VTIMEZONE
TZID:Europe/Brussels
BEGIN:DAYLIGHT
TZOFFSETFROM:+0100
TZOFFSETTO:+0200
TZNAME:CEST
DTSTART:20240331T010000
END:DAYLIGHT
BEGIN:STANDARD
TZOFFSETFROM:+0200
TZOFFSETTO:+0100
TZNAME:CET
DTSTART:20241027T010000
END:STANDARD
BEGIN:DAYLIGHT
TZOFFSETFROM:+0100
TZOFFSETTO:+0200
TZNAME:CEST
DTSTART:20250330T010000
END:DAYLIGHT
BEGIN:STANDARD
TZOFFSETFROM:+0200
TZOFFSETTO:+0100
TZNAME:CET
DTSTART:20251026T010000
END:STANDARD
BEGIN:DAYLIGHT
TZOFFSETFROM:+0100
TZOFFSETTO:+0200
TZNAME:CEST
DTSTART:20260329T010000
END:DAYLIGHT
BEGIN:STANDARD
TZOFFSETFROM:+0200
TZOFFSETTO:+0100
TZNAME:CET
DTSTART:20261025T010000
END:STANDARD
BEGIN:DAYLIGHT
TZOFFSETFROM:+0100
TZOFFSETTO:+0200
TZNAME:CEST
DTSTART:20270328T010000
END:DAYLIGHT
BEGIN:STANDARD
TZOFFSETFROM:+0200
TZOFFSETTO:+0100
TZNAME:CET
DTSTART:20271031T010000
END:STANDARD
END:VTIMEZONE
BEGIN:VEVENT
DTSTART;VALUE=DATE:20251022
DTEND;VALUE=DATE:20260627
DTSTAMP:20260423T023612
CREATED:20250418T110432Z
LAST-MODIFIED:20251029T075031Z
UID:990000204-1761091200-1782518399@esavs.org
SUMMARY:Veterinary Technician
DESCRIPTION:
URL:https://esavs.org/event/veterinary-technician/
LOCATION:Vienna\, Austria\, thv – International Training Center for Human & Veterinary Medicine Bergmillergasse 5\, Stiege 2\, Top 3\, Vienna\, 1140\, Austria
CATEGORIES:Veterinary Technicians
ATTACH;FMTTYPE=image/webp:https://esavs.org/wp-content/uploads/2025/04/esavs_vet-technician_1-1.webp
END:VEVENT
BEGIN:VEVENT
DTSTART;VALUE=DATE:20260302
DTEND;VALUE=DATE:20261115
DTSTAMP:20260423T023612
CREATED:20250418T110432Z
LAST-MODIFIED:20260330T093432Z
UID:990000205-1772409600-1794700799@esavs.org
SUMMARY:TFA
DESCRIPTION:
URL:https://esavs.org/event/tfa/
LOCATION:Haan\, Deutschland\, AniCura Tierklinik Neandertal\, Landstrasse 51\, Haan\, 42781\, Germany
CATEGORIES:Veterinary Technicians
ATTACH;FMTTYPE=image/webp:https://esavs.org/wp-content/uploads/2025/04/esavs_vet-technician_2-1.webp
END:VEVENT
BEGIN:VEVENT
DTSTART;VALUE=DATE:20260420
DTEND;VALUE=DATE:20260425
DTSTAMP:20260423T023612
CREATED:20250319T143506Z
LAST-MODIFIED:20260323T094438Z
UID:990000156-1776643200-1777075199@esavs.org
SUMMARY:Diagnostic Imaging: Radiology I
DESCRIPTION:
URL:https://esavs.org/event/radiology-1-2026/
LOCATION:Luxembourg\, NH Hotel Luxembourg\, 1 route de Trèves\, Niederanven\, 2633\, Luxembourg
CATEGORIES:CASVM-MASVM,Diagnostic Imaging
ATTACH;FMTTYPE=image/webp:https://esavs.org/wp-content/uploads/2025/03/esavs_radiology.webp
END:VEVENT
BEGIN:VEVENT
DTSTART;TZID=Europe/Brussels:20260423T190000
DTEND;TZID=Europe/Brussels:20260423T200000
DTSTAMP:20260423T023612
CREATED:20250211T194851Z
LAST-MODIFIED:20251217T094422Z
UID:990000136-1776970800-1776974400@esavs.org
SUMMARY:Feline Medicine\, Session 3
DESCRIPTION:Feline endocrinology secrets unravelled – Part 1: Feline hyperthyroidism\, feline hyperaldosteronism\nOne of the most important feline endocrinopathies undoubtedly is feline hyperthyroidism. Usually\, it is not the diagnosis and management of hyperthyroidism itself that poses a problem\, it is more about the co-morbiditis. Learn how to deal with concurrent chronic kidney disease\, gain awareness about the fact that systemic hypertension often develops only after establishment of euthyroidism\, discuss heart failure and the therapeutic consequenses in multimorbid cats and realize why producing hypothyroidism should be avoided by all means. And because it might look similar in the first place and diagnosis is not always straight forward we need to talk about feline hyperaldosteronism too.\nWhat you will learn:\n– A lot about feline hyperthyroidism and it`s co-morbidities (systemic hypertension\, chronic kidney disease\, heart failure)\n– When to think of feline hyperaldosteronism and how to diagnose it\nPreparation material:\n• Reading material providing an overview about feline hyperthyrodism\n• Reading material providing an overview about feline hyperaldosteronism\nLive workshop:\nSeveral cases will highlight the problems that may arise when dealing with feline hyperthyroidism and it`s co-morbidities. Some of them will be presented in a quizze format. Others will be discussed in more detail including gathering pros and cons within the group regarding different treatment options. \n 
URL:https://esavs.org/event/feline-medicine-session-3/
LOCATION:Online
CATEGORIES:CCM - Feline Medicine
END:VEVENT
END:VCALENDAR